BEGIN:VCALENDAR
VERSION:2.0
PRODID:-//ChamberMaster//Event Calendar 2.0//EN
METHOD:PUBLISH
X-PUBLISHED-TTL:P3D
REFRESH-INTERVAL:P3D
CALSCALE:GREGORIAN
BEGIN:VEVENT
DTSTART:20171201T020000Z
DTEND:20171201T050000Z
X-MICROSOFT-CDO-ALLDAYEVENT:FALSE
SUMMARY:Ocean Shores Chamber Meeting and Business Awards Presentation
DESCRIPTION:You are cordially invited to\n\nThe Ocean Shores Chamber of Commerce Annual Meeting & Business of the Year Celebration\n\n\n\n\n\n\n\nJoin us Thursday\, November 30th\,\n\n6:00 -9:00 PM\n\nPresentation to begin at 7:00 PM\n\nThe Shilo Inn Ballroom\n\n707 Ocean Shores Blvd NW\n\nTickets: $25 per person\n\nTickets price includes appetizers and a beautiful buffet dinner with the choice of chicken or a vegetarian option.\n\n*Tickets may be purchased in advance at the Chamber office\, located at 114 E Chance a la Mer\, Unit 100\,\n\nor at the door the evening of the event.\n\nFeaturing guest speakers\, a special sneak peak performance from the upcoming production of "A Rented Christmas" by Stage West Community Theatre\, a State of the Chamber presentation\, and the Ocean Shores Chamber of Commerce Business of the Year award
X-ALT-DESC;FMTTYPE=text/html:<span style="color: rgb(75\, 79\, 86)\; font-family: Helvetica\, Arial\, sans-serif\; font-size: 14px\; background-color: rgb(255\, 255\, 255)\;">You are cordially invited to</span><br style="color: rgb(75\, 79\, 86)\; font-family: Helvetica\, Arial\, sans-serif\; font-size: 14px\; background-color: rgb(255\, 255\, 255)\;" />\n<span style="color: rgb(75\, 79\, 86)\; font-family: Helvetica\, Arial\, sans-serif\; font-size: 14px\; background-color: rgb(255\, 255\, 255)\;">The&nbsp\;</span><span style="color: rgb(75\, 79\, 86)\; font-family: Helvetica\, Arial\, sans-serif\; font-size: 14px\; background-color: rgb(255\, 255\, 255)\;">Ocean Shores&nbsp\;</span><span style="color: rgb(75\, 79\, 86)\; font-family: Helvetica\, Arial\, sans-serif\; font-size: 14px\; background-color: rgb(255\, 255\, 255)\;">Chamber of Commerce Annual Meeting &amp\; Business of the Year Celebration</span><br style="color: rgb(75\, 79\, 86)\; font-family: Helvetica\, Arial\, sans-serif\; font-size: 14px\; background-color: rgb(255\, 255\, 255)\;" />\n<br style="color: rgb(75\, 79\, 86)\; font-family: Helvetica\, Arial\, sans-serif\; font-size: 14px\; background-color: rgb(255\, 255\, 255)\;" />\n<br style="color: rgb(75\, 79\, 86)\; font-family: Helvetica\, Arial\, sans-serif\; font-size: 14px\; background-color: rgb(255\, 255\, 255)\;" />\n<br style="color: rgb(75\, 79\, 86)\; font-family: Helvetica\, Arial\, sans-serif\; font-size: 14px\; background-color: rgb(255\, 255\, 255)\;" />\n<span style="color: rgb(75\, 79\, 86)\; font-family: Helvetica\, Arial\, sans-serif\; font-size: 14px\; background-color: rgb(255\, 255\, 255)\;">Join us Thursday\, November 30th\,</span><br style="color: rgb(75\, 79\, 86)\; font-family: Helvetica\, Arial\, sans-serif\; font-size: 14px\; background-color: rgb(255\, 255\, 255)\;" />\n<span style="color: rgb(75\, 79\, 86)\; font-family: Helvetica\, Arial\, sans-serif\; font-size: 14px\; background-color: rgb(255\, 255\, 255)\;">6:00 -9:00 PM</span><br style="color: rgb(75\, 79\, 86)\; font-family: Helvetica\, Arial\, sans-serif\; font-size: 14px\; background-color: rgb(255\, 255\, 255)\;" />\n<span style="color: rgb(75\, 79\, 86)\; font-family: Helvetica\, Arial\, sans-serif\; font-size: 14px\; background-color: rgb(255\, 255\, 255)\;">Presentation to begin at 7:00 PM</span><br style="color: rgb(75\, 79\, 86)\; font-family: Helvetica\, Arial\, sans-serif\; font-size: 14px\; background-color: rgb(255\, 255\, 255)\;" />\n<span style="color: rgb(75\, 79\, 86)\; font-family: Helvetica\, Arial\, sans-serif\; font-size: 14px\; background-color: rgb(255\, 255\, 255)\;">The Shilo Inn Ballroom</span><br style="color: rgb(75\, 79\, 86)\; font-family: Helvetica\, Arial\, sans-serif\; font-size: 14px\; background-color: rgb(255\, 255\, 255)\;" />\n<span style="color: rgb(75\, 79\, 86)\; font-family: Helvetica\, Arial\, sans-serif\; font-size: 14px\; background-color: rgb(255\, 255\, 255)\;">707 Ocean Shores Blvd NW</span><br />\n<span class="text_exposed_show" style="color: rgb(75\, 79\, 86)\; font-family: Helvetica\, Arial\, sans-serif\; font-size: 14px\; display: inline\; background-color: rgb(255\, 255\, 255)\;">Tickets: $25 per person<br />\nTickets price includes appetizers and a beautiful buffet dinner with the choice of chicken or a vegetarian option.<br />\n*Tickets may be purchased in advance at the Chamber office\, located at 114 E Chance a la Mer\, Unit 100\,<br />\nor at the door the evening of the event.<br />\nFeaturing guest speakers\, a special sneak peak performance from the upcoming production of &quot\;A Rented Christmas&quot\; by Stage West Community Theatre\, a State of the Chamber presentation\, and the Ocean Shores Chamber of Commerce Business of the Year award</span>
LOCATION:Shilo Inn Ocean Shores 707 Ocean Shores Blvd Ocean Shores\, WA
UID:e.26.8377
SEQUENCE:3
DTSTAMP:20260425T181818Z
URL:https://chamber.graysharbor.org/events/details/ocean-shores-chamber-meeting-and-business-awards-presentation-8377
END:VEVENT

END:VCALENDAR
