BEGIN:VCALENDAR
VERSION:2.0
PRODID:-//ChamberMaster//Event Calendar 2.0//EN
METHOD:PUBLISH
X-PUBLISHED-TTL:P3D
REFRESH-INTERVAL:P3D
CALSCALE:GREGORIAN
BEGIN:VEVENT
DTSTART:20190210T020000Z
DTEND:20190210T070000Z
X-MICROSOFT-CDO-ALLDAYEVENT:FALSE
SUMMARY:Ocean Shores Elks Sweetheart Ball
DESCRIPTION:Shady Day is excited to be invited back to Ocean Shores to play for the Elks' Sweethearts Ball. Please note that this an exclusive event for members of the Elks Lodge.
X-ALT-DESC;FMTTYPE=text/html:<span style="caret-color: rgb(29\, 33\, 41)\; color: rgb(29\, 33\, 41)\; font-family: system-ui\, -apple-system\, BlinkMacSystemFont\, &quot\;.SFNSText-Regular&quot\;\, sans-serif\; font-size: 14px\; white-space: pre-wrap\; background-color: rgb(255\, 255\, 255)\;">Shady Day is excited to be invited back to Ocean Shores to play for the Elks&#39\; Sweethearts Ball. Please note that this an exclusive event for members of the Elks Lodge.</span>
LOCATION:pin Ocean Shores Elks Lodge BPOE #2581 199 Ocean Lake Way SW\, Ocean Shores\, Washington 98569
UID:e.26.11717
SEQUENCE:3
DTSTAMP:20260424T181901Z
URL:https://chamber.graysharbor.org/events/details/ocean-shores-elks-sweetheart-ball-11717
END:VEVENT

END:VCALENDAR
