BEGIN:VCALENDAR
VERSION:2.0
PRODID:-//ChamberMaster//Event Calendar 2.0//EN
METHOD:PUBLISH
X-PUBLISHED-TTL:P3D
REFRESH-INTERVAL:P3D
CALSCALE:GREGORIAN
BEGIN:VEVENT
DTSTART:20190316T170000Z
DTEND:20190318T020000Z
X-MICROSOFT-CDO-ALLDAYEVENT:FALSE
SUMMARY:Ocean Shores Razor Clam & Seafood Festival
DESCRIPTION:Clam diggers and food lovers will be heading to Ocean Shores\, WA for the 13th annual Razor Clam & Seafood Festival!\n\nThere will be a chowder contest\, food and beverages\, fun for kids\, live music\, workshops\, vendors\, clam contest\, a 5k and so much more! Visit their website for more information on this year's exciting event.
X-ALT-DESC;FMTTYPE=text/html:<div class="_63ew" data-testid="event-permalink-details" style="background-color: transparent\; color: rgb(29\, 33\, 41)\; font-family: Helvetica\,Arial\,sans-serif\; font-size: 14px\; font-style: normal\; font-variant: normal\; font-weight: 400\; letter-spacing: normal\; orphans: 2\; text-align: left\; text-decoration: none\; text-indent: 0px\; text-transform: none\; -webkit-text-stroke-width: 0px\; white-space: normal\; word-spacing: 0px\;"><font color="#000000" face="arial" size="4">Clam diggers and food lovers will be heading to Ocean Shores\, WA for the 13th annual Razor Clam &amp\; Seafood Festival!</font><br />\n<span style="caret-color: rgb(0\, 0\, 0)\; color: rgb(0\, 0\, 0)\; font-family: arial\; font-size: large\; orphans: 2\;">There will be a chowder contest\, food and beverages\, fun for kids\, live music\, workshops\, vendors\, clam contest\, a 5k and so much more! Visit their website for more information on this year&#39\;s&nbsp\;exciting event.</span></div>\n
LOCATION:Ocean Shores Convention Center 120 W Chance a La Mer NW Ocean Shores\, WA 98569
UID:e.26.11330
SEQUENCE:3
DTSTAMP:20260422T130901Z
URL:https://chamber.graysharbor.org/events/details/ocean-shores-razor-clam-seafood-festival-11330
END:VEVENT

END:VCALENDAR
