BEGIN:VCALENDAR
VERSION:2.0
PRODID:-//ChamberMaster//Event Calendar 2.0//EN
METHOD:PUBLISH
X-PUBLISHED-TTL:P3D
REFRESH-INTERVAL:P3D
CALSCALE:GREGORIAN
BEGIN:VEVENT
DTSTART:20190216T060000Z
DTEND:20190218T010000Z
X-MICROSOFT-CDO-ALLDAYEVENT:FALSE
SUMMARY:Ocean Shores Renewed Antique Show
DESCRIPTION:The Ocean Shores Renewed Antique Show will take place February 16-17\, 2019 at the Ocean Shores Convention Center. Friday is open only in the evening as a special premier night and it is a ticketed event. The tickets will be for sale in the Center & at the Dusty Trunk and entitle you to tasty culinary delights as you peruse the wares of the vendors as well as entry into the show Sat and Sun.This antique and collectible show has been renewed and please be prepared to be amazed!
X-ALT-DESC;FMTTYPE=text/html:The Ocean Shores Renewed Antique Show will take place February 16-17\, 2019 at the Ocean Shores Convention Center. Friday is open only in the evening as a special premier night and it is a ticketed event. The tickets will be for sale in the Center &amp\; at the Dusty Trunk and entitle you to tasty culinary delights as you peruse the wares of the vendors as well as entry into the show Sat and Sun.This antique and collectible show has been renewed and please be prepared to be amazed!
LOCATION:Ocean Shores Convention Center
UID:e.26.11757
SEQUENCE:3
DTSTAMP:20260424T181912Z
URL:https://chamber.graysharbor.org/events/details/ocean-shores-renewed-antique-show-02-15-2019-11757
END:VEVENT

END:VCALENDAR
