BEGIN:VCALENDAR
VERSION:2.0
PRODID:-//ChamberMaster//Event Calendar 2.0//EN
METHOD:PUBLISH
X-PUBLISHED-TTL:P3D
REFRESH-INTERVAL:P3D
CALSCALE:GREGORIAN
BEGIN:VEVENT
DTSTART;VALUE=DATE:20180217
DTEND;VALUE=DATE:20180219
TRANSP:TRANSPARENT
X-MICROSOFT-CDO-ALLDAYEVENT:TRUE
SUMMARY:Ocean Shores Renewed Antique Show
DESCRIPTION:Enjoy antiques as well as items that have been repurposed\, upcycled\, and/or recycled. Purchase tickets for the early premier event on Friday night\, 5:30 to 7:30 by calling Diane at 360-580-5064
X-ALT-DESC;FMTTYPE=text/html:<span style="color: rgb(75\, 79\, 86)\; font-family: Helvetica\, Arial\, sans-serif\; font-size: 14px\; background-color: rgb(255\, 255\, 255)\;">Enjoy antiques as well as items that have been repurposed\, upcycled\, and/or recycled. Purchase tickets for the early premier event on Friday night\, 5:30 to 7:30 by calling Diane at 360-580-5064</span>
LOCATION:Ocean Shores Convention Center Ocean Shores\, WA
UID:e.26.9481
SEQUENCE:3
DTSTAMP:20260425T133103Z
URL:https://chamber.graysharbor.org/events/details/ocean-shores-renewed-antique-show-9481
END:VEVENT

END:VCALENDAR
