BEGIN:VCALENDAR
VERSION:2.0
PRODID:-//ChamberMaster//Event Calendar 2.0//EN
METHOD:PUBLISH
X-PUBLISHED-TTL:P3D
REFRESH-INTERVAL:P3D
CALSCALE:GREGORIAN
BEGIN:VEVENT
DTSTART:20251112T003000Z
DTEND:20251112T020000Z
X-MICROSOFT-CDO-ALLDAYEVENT:FALSE
SUMMARY:Ocean Shores VFW and Elks Lodge Veterans Day Celebration
DESCRIPTION:Food\, drink\, flag ceremony and more. Call 360-289-2581 to make a reservation (required)
X-ALT-DESC;FMTTYPE=text/html:<p style="box-sizing: border-box\; margin-top: 0px\; margin-bottom: 1.7rem\; font-size: 16px\; max-width: 640px\; color: rgb(26\, 26\, 26)\; font-family: Merriweather\, serif\;"><span style="font-size:14px\;"><span style="font-family:arial\;">Food\, drink\, flag ceremony and more.&nbsp\;</span></span><span style="font-size:14px\;"><span style="font-family:arial\;">Call 360-289-2581 to make a reservation (required)</span></span></p>\n
LOCATION:199 Ocean Lake Way SE Oceam Shores\, WA
UID:e.26.15300
SEQUENCE:3
DTSTAMP:20260423T222114Z
URL:https://chamber.graysharbor.org/events/details/ocean-shores-vfw-and-elks-lodge-veterans-day-celebration-15300
END:VEVENT

END:VCALENDAR
