BEGIN:VCALENDAR
VERSION:2.0
PRODID:-//ChamberMaster//Event Calendar 2.0//EN
METHOD:PUBLISH
X-PUBLISHED-TTL:P3D
REFRESH-INTERVAL:P3D
CALSCALE:GREGORIAN
BEGIN:VEVENT
DTSTART;VALUE=DATE:20190601
DTEND;VALUE=DATE:20190602
TRANSP:TRANSPARENT
X-MICROSOFT-CDO-ALLDAYEVENT:TRUE
SUMMARY:Ocean Shores Wearable Art Show
DESCRIPTION:Artists of all media types create functional and not-so-functional pieces of spectacular fashion in this year's show\, that comes to life in one magical evening of music\, dance and WEARABLE ART.
X-ALT-DESC;FMTTYPE=text/html:<span style="background-color:rgb(255\, 255\, 255)\; color:rgb(128\, 128\, 128)\; font-family:lato\,sans-serif\; font-size:17.008px">Artists of all media types create functional and not-so-functional pieces of spectacular fashion in this year&#39\;s show\, that comes to life in one magical evening of music\, dance and WEARABLE ART.</span>
LOCATION:Ocean Shores Convention Center 120 W Chance A La Mer Ave Ocean Shores\, WA 98569
UID:e.26.11866
SEQUENCE:3
DTSTAMP:20260424T120317Z
URL:https://chamber.graysharbor.org/events/details/ocean-shores-wearable-art-show-11866
END:VEVENT

END:VCALENDAR
