BEGIN:VCALENDAR
VERSION:2.0
PRODID:-//ChamberMaster//Event Calendar 2.0//EN
METHOD:PUBLISH
X-PUBLISHED-TTL:P3D
REFRESH-INTERVAL:P3D
CALSCALE:GREGORIAN
BEGIN:VEVENT
DTSTART:20190602T013000Z
DTEND:20190602T040000Z
X-MICROSOFT-CDO-ALLDAYEVENT:FALSE
SUMMARY:Ocean Shores Wearable Art Show
DESCRIPTION:Artists of all media types create functional and not-so-functional pieces of spectacular fashion in this year's show\, that comes to life in one magical evening of music\, dance and WEARABLE ART.
X-ALT-DESC;FMTTYPE=text/html:<span style="caret-color: rgb(29\, 33\, 41)\; color: rgb(29\, 33\, 41)\; font-family: system-ui\, -apple-system\, BlinkMacSystemFont\, &quot\;.SFNSText-Regular&quot\;\, sans-serif\; font-size: 14px\; white-space: pre-wrap\;">Artists of all media types create functional and not-so-functional pieces of spectacular fashion in this year&#39\;s show\, that comes to life in one magical evening of music\, dance and WEARABLE ART.</span>
LOCATION:pin Ocean Shores Convention Center 120 W Chance A la Mer NW\, Ocean Shores\, Washington 98569
UID:e.26.11918
SEQUENCE:3
DTSTAMP:20260424T133036Z
URL:https://chamber.graysharbor.org/events/details/ocean-shores-wearable-art-show-11918
END:VEVENT

END:VCALENDAR
