BEGIN:VCALENDAR
VERSION:2.0
PRODID:-//ChamberMaster//Event Calendar 2.0//EN
METHOD:PUBLISH
X-PUBLISHED-TTL:P3D
REFRESH-INTERVAL:P3D
CALSCALE:GREGORIAN
BEGIN:VEVENT
DTSTART:20190810T170000Z
DTEND:20190810T220000Z
X-MICROSOFT-CDO-ALLDAYEVENT:FALSE
SUMMARY:Ocean Shores Woof-a-Thon 2019
DESCRIPTION:MARK YOUR CALENDARS! It's now official. The 2019 Woof-a-thon will again be at the North Beach Jr/Sr High School grounds on Saturday August 10th!
X-ALT-DESC;FMTTYPE=text/html:<span style="caret-color: rgb(29\, 33\, 41)\; color: rgb(29\, 33\, 41)\; font-family: system-ui\, -apple-system\, BlinkMacSystemFont\, &quot\;.SFNSText-Regular&quot\;\, sans-serif\; font-size: 14px\; white-space: pre-wrap\;">MARK YOUR CALENDARS! It&#39\;s now official. The 2019 Woof-a-thon will again be at the North Beach Jr/Sr High School grounds on Saturday August 10th! </span>
LOCATION:pin North Beach Jr/Sr High School 336 State Route 115\, Ocean Shores\, Washington 98569
UID:e.26.11786
SEQUENCE:3
DTSTAMP:20260424T090702Z
URL:https://chamber.graysharbor.org/events/details/ocean-shores-woof-a-thon-2019-11786
END:VEVENT

END:VCALENDAR
