BEGIN:VCALENDAR
VERSION:2.0
PRODID:-//ChamberMaster//Event Calendar 2.0//EN
METHOD:PUBLISH
X-PUBLISHED-TTL:P3D
REFRESH-INTERVAL:P3D
CALSCALE:GREGORIAN
BEGIN:VEVENT
DTSTART:20171104T170000Z
DTEND:20171105T000000Z
X-MICROSOFT-CDO-ALLDAYEVENT:FALSE
SUMMARY:Oceana Spa Holiday Open House
DESCRIPTION:Visit us for holiday open house and enjoy a Complementary Spa Treatment (brow waxing\, hand massage with sugar scrub\, seated chair massage\, makeup tutorials etc.)\n\n\n\nBring a friend and take a peek at our treatment rooms and\n\nmeet the staff behind "Best of Twin Harbors Day Spa".\n\n\n\nSee all of our new Holiday Items from Bare Minerals\, Eminence\, Lalicious\, and more!\n\n\n\nCome and celebrate the start of the season with a glass of cheer & refreshments. We'll be handing out goodie bags too!\n\n\n\n6th Annual Giving Tree\n\nYou can make a difference by supporting a family in need this holiday season. For a minimum donation of $15. you can choose an ornament off our tree and the gift inside is yours to keep or gift to a friend. The tree will be stocked with our favorite spa gifts and services ranging from $15.-$95.\n\n100% of your donation goes to support a family in Grays Harbor.
X-ALT-DESC;FMTTYPE=text/html:<span style="color: rgb(75\, 79\, 86)\; font-family: Helvetica\, Arial\, sans-serif\; font-size: 14px\; background-color: rgb(255\, 255\, 255)\;">Visit us for holiday open house and enjoy a Complementary Spa Treatment (brow waxing\, hand massage with sugar scrub\, seated chair massage\, makeup tutorials etc.)</span><br style="color: rgb(75\, 79\, 86)\; font-family: Helvetica\, Arial\, sans-serif\; font-size: 14px\; background-color: rgb(255\, 255\, 255)\;" />\n<br style="color: rgb(75\, 79\, 86)\; font-family: Helvetica\, Arial\, sans-serif\; font-size: 14px\; background-color: rgb(255\, 255\, 255)\;" />\n<span style="color: rgb(75\, 79\, 86)\; font-family: Helvetica\, Arial\, sans-serif\; font-size: 14px\; background-color: rgb(255\, 255\, 255)\;">Bring a friend and take a peek at our treatment rooms and</span><br style="color: rgb(75\, 79\, 86)\; font-family: Helvetica\, Arial\, sans-serif\; font-size: 14px\; background-color: rgb(255\, 255\, 255)\;" />\n<span style="color: rgb(75\, 79\, 86)\; font-family: Helvetica\, Arial\, sans-serif\; font-size: 14px\; background-color: rgb(255\, 255\, 255)\;">meet the staff behind &quot\;Best of Twin Harbors Day Spa&quot\;.</span><br style="color: rgb(75\, 79\, 86)\; font-family: Helvetica\, Arial\, sans-serif\; font-size: 14px\; background-color: rgb(255\, 255\, 255)\;" />\n<br style="color: rgb(75\, 79\, 86)\; font-family: Helvetica\, Arial\, sans-serif\; font-size: 14px\; background-color: rgb(255\, 255\, 255)\;" />\n<span style="color: rgb(75\, 79\, 86)\; font-family: Helvetica\, Arial\, sans-serif\; font-size: 14px\; background-color: rgb(255\, 255\, 255)\;">See all of our new Holiday Items from Bare Minerals\, Eminence\, Lalicious\, and more!</span><br style="color: rgb(75\, 79\, 86)\; font-family: Helvetica\, Arial\, sans-serif\; font-size: 14px\; background-color: rgb(255\, 255\, 255)\;" />\n<br style="color: rgb(75\, 79\, 86)\; font-family: Helvetica\, Arial\, sans-serif\; font-size: 14px\; background-color: rgb(255\, 255\, 255)\;" />\n<span style="color: rgb(75\, 79\, 86)\; font-family: Helvetica\, Arial\, sans-serif\; font-size: 14px\; background-color: rgb(255\, 255\, 255)\;">Come and celebrate the start of the season with a glass of cheer &amp\; refreshments. We&#39\;ll be handing out goodie bags too!</span><br style="color: rgb(75\, 79\, 86)\; font-family: Helvetica\, Arial\, sans-serif\; font-size: 14px\; background-color: rgb(255\, 255\, 255)\;" />\n<br style="color: rgb(75\, 79\, 86)\; font-family: Helvetica\, Arial\, sans-serif\; font-size: 14px\; background-color: rgb(255\, 255\, 255)\;" />\n<span style="color: rgb(75\, 79\, 86)\; font-family: Helvetica\, Arial\, sans-serif\; font-size: 14px\; background-color: rgb(255\, 255\, 255)\;">6th Annual Giving Tree</span><br style="color: rgb(75\, 79\, 86)\; font-family: Helvetica\, Arial\, sans-serif\; font-size: 14px\; background-color: rgb(255\, 255\, 255)\;" />\n<span style="color: rgb(75\, 79\, 86)\; font-family: Helvetica\, Arial\, sans-serif\; font-size: 14px\; background-color: rgb(255\, 255\, 255)\;">You can make a difference by supporting a family in need this holiday season. For a minimum donation of $15. you can choose an ornament off our tree and the gift inside is yours to keep or gift to a friend. The tree will be stocked with our favorite spa gifts and services ranging from $15.-$95.</span><br style="color: rgb(75\, 79\, 86)\; font-family: Helvetica\, Arial\, sans-serif\; font-size: 14px\; background-color: rgb(255\, 255\, 255)\;" />\n<span style="color: rgb(75\, 79\, 86)\; font-family: Helvetica\, Arial\, sans-serif\; font-size: 14px\; background-color: rgb(255\, 255\, 255)\;">100% of your donation goes to support a family in Grays Harbor.</span>
LOCATION:Oceana Spa Aberdeen
UID:e.26.8331
SEQUENCE:3
DTSTAMP:20260425T195736Z
URL:https://chamber.graysharbor.org/events/details/oceana-spa-holiday-open-house-8331
END:VEVENT

END:VCALENDAR
