BEGIN:VCALENDAR
VERSION:2.0
PRODID:-//ChamberMaster//Event Calendar 2.0//EN
METHOD:PUBLISH
X-PUBLISHED-TTL:P3D
REFRESH-INTERVAL:P3D
CALSCALE:GREGORIAN
BEGIN:VEVENT
DTSTART:20191102T170000Z
DTEND:20191103T000000Z
X-MICROSOFT-CDO-ALLDAYEVENT:FALSE
SUMMARY:Oceana Spa Open House
DESCRIPTION:Grab a friend and come meet the Oceana Spa Team. Our treatment rooms will be showcasing a variety of products and services that are available to you.\n\n\n\nPick up a Goodie Bag filled with our favorite products and enter to win our Open House Drawing. Enjoy light treats and sip our Delicious Signature Holiday Beverage.\n\n\n\n** Be the first to see Holiday Collections from Bare Minerals\, Lalicious\, Eminence Organic Skincare\, and share in the fun festivities. Check out our candle collection from Illume Candles and our new Voluspa candles!\n\n\n\nOur Annual Giving Tree will be loaded with wonderful surprises. Donate $15 and pick a Christmas Ornament from the Giving Tree. Whatever is inside is yours to keep or gift to a friend! All proceeds benefit a family in need this Christmas Season.\n\n\n\nEvery year we look forward to holiday open house and visiting with clients and meeting new friends. In order to provide the best experience for all of our guests we WILL NOT BE OFFERING COMPLEMENTARY SERVICES during open house. We look forward to seeing you!
X-ALT-DESC;FMTTYPE=text/html:<span style="caret-color: rgb(29\, 33\, 41)\; color: rgb(29\, 33\, 41)\; font-family: system-ui\, -apple-system\, BlinkMacSystemFont\, &quot\;.SFNSText-Regular&quot\;\, sans-serif\; font-size: 14px\; white-space: pre-wrap\;">Grab a friend and come meet the Oceana Spa Team. Our treatment rooms will be showcasing a variety of products and services that are available to you.</span><br style="caret-color: rgb(29\, 33\, 41)\; color: rgb(29\, 33\, 41)\; font-family: system-ui\, -apple-system\, BlinkMacSystemFont\, &quot\;.SFNSText-Regular&quot\;\, sans-serif\; font-size: 14px\; white-space: pre-wrap\;" />\n<br style="caret-color: rgb(29\, 33\, 41)\; color: rgb(29\, 33\, 41)\; font-family: system-ui\, -apple-system\, BlinkMacSystemFont\, &quot\;.SFNSText-Regular&quot\;\, sans-serif\; font-size: 14px\; white-space: pre-wrap\;" />\n<span style="caret-color: rgb(29\, 33\, 41)\; color: rgb(29\, 33\, 41)\; font-family: system-ui\, -apple-system\, BlinkMacSystemFont\, &quot\;.SFNSText-Regular&quot\;\, sans-serif\; font-size: 14px\; white-space: pre-wrap\;">Pick up a Goodie Bag filled with our favorite products and enter to win our Open House Drawing. Enjoy light treats and sip our Delicious Signature Holiday Beverage.</span><br style="caret-color: rgb(29\, 33\, 41)\; color: rgb(29\, 33\, 41)\; font-family: system-ui\, -apple-system\, BlinkMacSystemFont\, &quot\;.SFNSText-Regular&quot\;\, sans-serif\; font-size: 14px\; white-space: pre-wrap\;" />\n<br style="caret-color: rgb(29\, 33\, 41)\; color: rgb(29\, 33\, 41)\; font-family: system-ui\, -apple-system\, BlinkMacSystemFont\, &quot\;.SFNSText-Regular&quot\;\, sans-serif\; font-size: 14px\; white-space: pre-wrap\;" />\n<span style="caret-color: rgb(29\, 33\, 41)\; color: rgb(29\, 33\, 41)\; font-family: system-ui\, -apple-system\, BlinkMacSystemFont\, &quot\;.SFNSText-Regular&quot\;\, sans-serif\; font-size: 14px\; white-space: pre-wrap\;">** Be the first to see Holiday Collections from Bare Minerals\, Lalicious\, Eminence Organic Skincare\, and share in the fun festivities. Check out our candle collection from Illume Candles and our new Voluspa candles!</span><br style="caret-color: rgb(29\, 33\, 41)\; color: rgb(29\, 33\, 41)\; font-family: system-ui\, -apple-system\, BlinkMacSystemFont\, &quot\;.SFNSText-Regular&quot\;\, sans-serif\; font-size: 14px\; white-space: pre-wrap\;" />\n<br style="caret-color: rgb(29\, 33\, 41)\; color: rgb(29\, 33\, 41)\; font-family: system-ui\, -apple-system\, BlinkMacSystemFont\, &quot\;.SFNSText-Regular&quot\;\, sans-serif\; font-size: 14px\; white-space: pre-wrap\;" />\n<span style="caret-color: rgb(29\, 33\, 41)\; color: rgb(29\, 33\, 41)\; font-family: system-ui\, -apple-system\, BlinkMacSystemFont\, &quot\;.SFNSText-Regular&quot\;\, sans-serif\; font-size: 14px\; white-space: pre-wrap\;">Our Annual Giving Tree will be loaded with wonderful surprises. Donate $15 and pick a Christmas Ornament from the Giving Tree. Whatever is inside is yours to keep or gift to a friend! All proceeds benefit a family in need this Christmas Season.</span><br style="caret-color: rgb(29\, 33\, 41)\; color: rgb(29\, 33\, 41)\; font-family: system-ui\, -apple-system\, BlinkMacSystemFont\, &quot\;.SFNSText-Regular&quot\;\, sans-serif\; font-size: 14px\; white-space: pre-wrap\;" />\n<br style="caret-color: rgb(29\, 33\, 41)\; color: rgb(29\, 33\, 41)\; font-family: system-ui\, -apple-system\, BlinkMacSystemFont\, &quot\;.SFNSText-Regular&quot\;\, sans-serif\; font-size: 14px\; white-space: pre-wrap\;" />\n<span style="caret-color: rgb(29\, 33\, 41)\; color: rgb(29\, 33\, 41)\; font-family: system-ui\, -apple-system\, BlinkMacSystemFont\, &quot\;.SFNSText-Regular&quot\;\, sans-serif\; font-size: 14px\; white-space: pre-wrap\;">Every year we look forward to holiday open house and visiting with clients and meeting new friends. In order to provide the best experience for all of our guests we WILL NOT BE OFFERING COMPLEMENTARY SERVICES during open house. We look forward to seeing you!</span>
LOCATION:pin Oceana Spa 501 W Wishkah St\, Aberdeen\, Washington 98520
UID:e.26.12223
SEQUENCE:3
DTSTAMP:20260424T041942Z
URL:https://chamber.graysharbor.org/events/details/oceana-spa-open-house-12223
END:VEVENT

END:VCALENDAR
