BEGIN:VCALENDAR
VERSION:2.0
PRODID:-//ChamberMaster//Event Calendar 2.0//EN
METHOD:PUBLISH
X-PUBLISHED-TTL:P3D
REFRESH-INTERVAL:P3D
CALSCALE:GREGORIAN
BEGIN:VEVENT
DTSTART;VALUE=DATE:20190504
DTEND;VALUE=DATE:20190505
TRANSP:TRANSPARENT
X-MICROSOFT-CDO-ALLDAYEVENT:TRUE
SUMMARY:Ocosta Oyster Feed
DESCRIPTION:ALL THE OYSTERS YOU CAN EAT!\n\n\nSteamed Oysters\, Fried Oysters\, Clam Chowder\, Spaghetti\, Asian-style Noodle Salad\, Ambrosia\, Cole Slaw\, Garlic Bread\, Hot Dogs. Beer and Wine available for an additional fee.
X-ALT-DESC;FMTTYPE=text/html:<div style="font-family: Arial\, sans-serif\; caret-color: rgb(49\, 49\, 49)\; color: rgb(49\, 49\, 49)\;"><span style="font-size:14px\;"><font face="arial">ALL THE OYSTERS YOU CAN EAT!</font></span></div>\n\n<div style="font-family: Arial\, sans-serif\; caret-color: rgb(49\, 49\, 49)\; color: rgb(49\, 49\, 49)\;">\n<p style="margin-bottom: 0px\;"><span style="font-size:14px\;"><font face="arial">Steamed Oysters\, Fried Oysters\, Clam Chowder\, Spaghetti\, Asian-style Noodle Salad\, Ambrosia\, Cole Slaw\, Garlic Bread\, Hot Dogs. Beer and Wine available for an additional fee.&nbsp\;</font></span></p>\n</div>\n
LOCATION:Ocosta Rec Hall 45 Ocosta 6th St. Aberdeen\, WA 98520
UID:e.26.11767
SEQUENCE:3
DTSTAMP:20260424T132555Z
URL:https://chamber.graysharbor.org/events/details/ocosta-oyster-feed-11767
END:VEVENT

END:VCALENDAR
