BEGIN:VCALENDAR
VERSION:2.0
PRODID:-//ChamberMaster//Event Calendar 2.0//EN
METHOD:PUBLISH
X-PUBLISHED-TTL:P3D
REFRESH-INTERVAL:P3D
CALSCALE:GREGORIAN
BEGIN:VEVENT
DTSTART:20190523T203000Z
DTEND:20190523T210000Z
X-MICROSOFT-CDO-ALLDAYEVENT:FALSE
SUMMARY:Oh My Donuts Ribbon Cutting
DESCRIPTION:Oh My Donuts is going to be having a ribbon cutting TODAY at 1:30 pm! They are located at 212 South L St. They have already had quite a successful start\, selling out on their first couple days\, so come see what all the hubbub is about!
X-ALT-DESC;FMTTYPE=text/html:<span style="caret-color: rgb(34\, 34\, 34)\; color: rgb(34\, 34\, 34)\; font-family: Arial\, Helvetica\, sans-serif\; font-size: small\;">Oh My Donuts is going to be having a ribbon cutting&nbsp\;</span><u style="caret-color: rgb(34\, 34\, 34)\; color: rgb(34\, 34\, 34)\; font-family: Arial\, Helvetica\, sans-serif\;">TODAY</u><span style="caret-color: rgb(34\, 34\, 34)\; color: rgb(34\, 34\, 34)\; font-family: Arial\, Helvetica\, sans-serif\; font-size: small\;">&nbsp\;at 1:30 pm! They are located at 212 South L St. They have already had quite a successful start\, selling out on their first couple days\, so come see what all the hubbub is about!</span>
LOCATION:212 South L Street Aberdeen\, WA
UID:e.26.12026
SEQUENCE:3
DTSTAMP:20260424T132712Z
URL:https://chamber.graysharbor.org/events/details/oh-my-donuts-ribbon-cutting-12026
END:VEVENT

END:VCALENDAR
