BEGIN:VCALENDAR
VERSION:2.0
PRODID:-//ChamberMaster//Event Calendar 2.0//EN
METHOD:PUBLISH
X-PUBLISHED-TTL:P3D
REFRESH-INTERVAL:P3D
CALSCALE:GREGORIAN
BEGIN:VEVENT
DTSTART;VALUE=DATE:20190621
DTEND;VALUE=DATE:20190623
TRANSP:TRANSPARENT
X-MICROSOFT-CDO-ALLDAYEVENT:TRUE
SUMMARY:Oliver Mulholland
DESCRIPTION:One of Galway Bay's original performers! Oliver brings all the best ballads from Ireland to the Galway Bay stage making for a memorable evening.
X-ALT-DESC;FMTTYPE=text/html:<span style="caret-color: rgb(29\, 33\, 41)\; color: rgb(29\, 33\, 41)\; font-family: system-ui\, -apple-system\, BlinkMacSystemFont\, &quot\;.SFNSText-Regular&quot\;\, sans-serif\; font-size: 14px\; white-space: pre-wrap\;">One of Galway Bay&#39\;s original performers! Oliver brings all the best ballads from Ireland to the Galway Bay stage making for a memorable evening. </span>
LOCATION:pin Galway Bay Irish Restaurant & Pub 880 Point Brown Ave NE\, Ocean Shores\, Washington 98569
UID:e.26.11853
SEQUENCE:3
DTSTAMP:20260424T132629Z
URL:https://chamber.graysharbor.org/events/details/oliver-mulholland-11853
END:VEVENT

END:VCALENDAR
