BEGIN:VCALENDAR
VERSION:2.0
PRODID:-//ChamberMaster//Event Calendar 2.0//EN
METHOD:PUBLISH
X-PUBLISHED-TTL:P3D
REFRESH-INTERVAL:P3D
CALSCALE:GREGORIAN
BEGIN:VEVENT
DTSTART:20200307T033000Z
DTEND:20200307T063000Z
X-MICROSOFT-CDO-ALLDAYEVENT:FALSE
SUMMARY:Oliver the Musical
DESCRIPTION:The award-winning musical adaptation of the classic Charles Dickens' classic "Oliver Twist" springs to life with some of the most memorable characters and songs to ever hit the stage. Prepare to be transported to the streets of Victorian London where we'll rediscover the love of family\, adventure\, and beauty. Advisory: This production contains scenes of domestic violence.
X-ALT-DESC;FMTTYPE=text/html:<span style="font-size:14px\;">The award-winning musical adaptation of the classic Charles Dickens&#39\; classic &quot\;Oliver Twist&quot\; springs to life with some of the most memorable characters and songs to ever hit the stage. Prepare to be transported to the streets of Victorian London where we&#39\;ll rediscover the love of family\, adventure\, and beauty. Advisory: This production contains scenes of domestic violence.</span>
LOCATION:Bishop Center for Performing Arts 1620 Edward P Smith Dr. Aberdeen\, WA 98520
UID:e.26.12450
SEQUENCE:3
DTSTAMP:20260424T060006Z
URL:https://chamber.graysharbor.org/events/details/oliver-the-musical-12450
END:VEVENT

END:VCALENDAR
