BEGIN:VCALENDAR
VERSION:2.0
PRODID:-//ChamberMaster//Event Calendar 2.0//EN
METHOD:PUBLISH
X-PUBLISHED-TTL:P3D
REFRESH-INTERVAL:P3D
CALSCALE:GREGORIAN
BEGIN:VEVENT
DTSTART;VALUE=DATE:20181123
DTEND;VALUE=DATE:20181125
TRANSP:TRANSPARENT
X-MICROSOFT-CDO-ALLDAYEVENT:TRUE
SUMMARY:Opal Art Glass Holiday Open House
DESCRIPTION:Please join us for our Holiday Open House.\n\nWe will be holding one of our largest sales of the year.\n\nPick from 200 handmade glass ornaments and unique one of a kind pieces. Mention you seen this on Facebook and receive 10% off your purchase.
X-ALT-DESC;FMTTYPE=text/html:<div class="_63ew" data-testid="event-permalink-details" style="background-color: transparent\; color: rgb(29\, 33\, 41)\; font-family: Helvetica\,Arial\,sans-serif\; font-size: 14px\; font-style: normal\; font-variant: normal\; font-weight: 400\; letter-spacing: normal\; orphans: 2\; text-align: left\; text-decoration: none\; text-indent: 0px\; text-transform: none\; -webkit-text-stroke-width: 0px\; white-space: normal\; word-spacing: 0px\;"><span style="display: inline !important\; float: none\; background-color: transparent\; color: rgb(29\, 33\, 41)\; font-family: Helvetica\,Arial\,sans-serif\; font-size: 14px\; font-style: normal\; font-variant: normal\; font-weight: 400\; letter-spacing: normal\; orphans: 2\; text-align: left\; text-decoration: none\; text-indent: 0px\; text-transform: none\; -webkit-text-stroke-width: 0px\; white-space: normal\; word-spacing: 0px\;">Please join us for our Holiday Open House.<br />\nWe will be holding one of our largest sales of the year.</span><br />\n<span style="font-family: Helvetica\,Arial\,sans-serif\;">Pick from 200 handmade glass ornaments and unique one of a kind pieces. Mention you seen this on Facebook and receive 10% off your purchase.</span></div>\n
LOCATION:Opal Art Glass\, LLC. 1232 1st St\, Cosmopolis\, Washington 9853
UID:e.26.11349
SEQUENCE:3
DTSTAMP:20260424T224426Z
URL:https://chamber.graysharbor.org/events/details/opal-art-glass-holiday-open-house-11349
END:VEVENT

END:VCALENDAR
