BEGIN:VCALENDAR
VERSION:2.0
PRODID:-//ChamberMaster//Event Calendar 2.0//EN
METHOD:PUBLISH
X-PUBLISHED-TTL:P3D
REFRESH-INTERVAL:P3D
CALSCALE:GREGORIAN
BEGIN:VEVENT
DTSTART:20190321T000000Z
DTEND:20190321T020000Z
X-MICROSOFT-CDO-ALLDAYEVENT:FALSE
SUMMARY:Open House to Discuss Effect of Flood Risk Impact
DESCRIPTION:Property owners and community residents are invited to discuss the potential impacts and provide feedback on the proposed community flood map revisions.
X-ALT-DESC;FMTTYPE=text/html:Property owners and community residents are invited to discuss the potential impacts and provide feedback on the proposed community flood map revisions.&nbsp\;
LOCATION:First floor of the Grays Harbor County Administration Building 100 W Broadway Montesano\, WA
UID:e.26.11856
SEQUENCE:3
DTSTAMP:20260424T163716Z
URL:https://chamber.graysharbor.org/events/details/open-house-to-discuss-effect-of-flood-risk-impact-11856
END:VEVENT

END:VCALENDAR
