BEGIN:VCALENDAR
VERSION:2.0
PRODID:-//ChamberMaster//Event Calendar 2.0//EN
METHOD:PUBLISH
X-PUBLISHED-TTL:P3D
REFRESH-INTERVAL:P3D
CALSCALE:GREGORIAN
BEGIN:VEVENT
DTSTART:20190719T020000Z
DTEND:20190719T083000Z
X-MICROSOFT-CDO-ALLDAYEVENT:FALSE
SUMMARY:Open Mic/karaoke hosted by Christopher johnson
DESCRIPTION:21+ only\, open Mic night with karaoke to follow.
X-ALT-DESC;FMTTYPE=text/html:21+ only\, open Mic night with karaoke to follow.
LOCATION:Parkway tavern 417 n park St Aberdeen WA 98520
UID:e.26.12125
SEQUENCE:3
DTSTAMP:20260424T115002Z
URL:https://chamber.graysharbor.org/events/details/open-mic-karaoke-hosted-by-christopher-johnson-12125
END:VEVENT

END:VCALENDAR
