BEGIN:VCALENDAR
VERSION:2.0
PRODID:-//ChamberMaster//Event Calendar 2.0//EN
METHOD:PUBLISH
X-PUBLISHED-TTL:P3D
REFRESH-INTERVAL:P3D
CALSCALE:GREGORIAN
BEGIN:VEVENT
DTSTART:20190304T010000Z
DTEND:20190304T040000Z
X-MICROSOFT-CDO-ALLDAYEVENT:FALSE
SUMMARY:Open Mic Night
DESCRIPTION:Open Mic at Mount Olympus! Starts at 5pm.\n\nAll ages and talent welcome! There will be delicious beer\, snacks and non alcoholic drink options.
X-ALT-DESC;FMTTYPE=text/html:<span style="caret-color: rgb(29\, 33\, 41)\; color: rgb(29\, 33\, 41)\; font-family: system-ui\, -apple-system\, BlinkMacSystemFont\, &quot\;.SFNSText-Regular&quot\;\, sans-serif\; font-size: 14px\; white-space: pre-wrap\;">Open Mic at Mount Olympus! Starts at 5pm.<br />\nAll ages and talent welcome! There will be delicious beer\, snacks and non alcoholic drink options. </span>
LOCATION:pin Mount Olympus Brewing Company 105 W HERON ST\, Aberdeen\, Washington 98520
UID:e.26.11777
SEQUENCE:3
DTSTAMP:20260424T163149Z
URL:https://chamber.graysharbor.org/events/details/open-mic-night-11777
END:VEVENT

END:VCALENDAR
