BEGIN:VCALENDAR
VERSION:2.0
PRODID:-//ChamberMaster//Event Calendar 2.0//EN
METHOD:PUBLISH
X-PUBLISHED-TTL:P3D
REFRESH-INTERVAL:P3D
CALSCALE:GREGORIAN
BEGIN:VEVENT
DTSTART:20181025T173000Z
DTEND:20181025T180000Z
X-MICROSOFT-CDO-ALLDAYEVENT:FALSE
SUMMARY:Outdoor Storytime at Chapman Farms
DESCRIPTION:LOCATION: Chapman Farms 239 Brady Loop Rd E\, Montesano WA 98563. Join us for storytime at the pumpkin patch! Music\, movement\, and books for the whole family. Please dress appropriately for the weather.
X-ALT-DESC;FMTTYPE=text/html:<div class="_63ew" data-testid="event-permalink-details" style="background-color: transparent\; color: rgb(29\, 33\, 41)\; font-family: Helvetica\,Arial\,sans-serif\; font-size: 14px\; font-style: normal\; font-variant: normal\; font-weight: 400\; letter-spacing: normal\; orphans: 2\; text-align: left\; text-decoration: none\; text-indent: 0px\; text-transform: none\; -webkit-text-stroke-width: 0px\; white-space: normal\; word-spacing: 0px\;"><span style="font-family: Helvetica\,Arial\,sans-serif\;">LOCATION: Chapman Farms 239 Brady Loop Rd E\, Montesano WA 98563. Join us for storytime at the pumpkin patch! Music\, movement\, and books for the whole family. Please dress appropriately for the weather.</span></div>\n
LOCATION:Chapman Farms 239 Brady Loop Rd E\, Montesano WA 98563
UID:e.26.11289
SEQUENCE:3
DTSTAMP:20260425T002524Z
URL:https://chamber.graysharbor.org/events/details/outdoor-storytime-at-chapman-farms-11289
END:VEVENT

END:VCALENDAR
