BEGIN:VCALENDAR
VERSION:2.0
PRODID:-//ChamberMaster//Event Calendar 2.0//EN
METHOD:PUBLISH
X-PUBLISHED-TTL:P3D
REFRESH-INTERVAL:P3D
CALSCALE:GREGORIAN
BEGIN:VEVENT
DTSTART:20180419T173000Z
DTEND:20180419T180000Z
X-MICROSOFT-CDO-ALLDAYEVENT:FALSE
SUMMARY:Outdoor Storytime at The Satsop Bulb Farm
DESCRIPTION:Stories\, songs\, and activities for preschoolers and their participating caregivers. Please dress appropriately for the weather. For Children ages 2-6 with a participating adult.
X-ALT-DESC;FMTTYPE=text/html:<span style="color: rgb(75\, 79\, 86)\; font-family: Helvetica\, Arial\, sans-serif\; font-size: 14px\; background-color: rgb(255\, 255\, 255)\;">Stories\, songs\, and activities for preschoolers and their participating caregivers. Please dress appropriately for the weather. For Children ages 2-6 with a participating adult.</span>
LOCATION:pin Satsop Bulb Farm 930 Monte-Elma Rd\, Elma\, Washington 98541
UID:e.26.10593
SEQUENCE:3
DTSTAMP:20260425T120150Z
URL:https://chamber.graysharbor.org/events/details/outdoor-storytime-at-the-satsop-bulb-farm-10593
END:VEVENT

END:VCALENDAR
