BEGIN:VCALENDAR
VERSION:2.0
PRODID:-//ChamberMaster//Event Calendar 2.0//EN
METHOD:PUBLISH
X-PUBLISHED-TTL:P3D
REFRESH-INTERVAL:P3D
CALSCALE:GREGORIAN
BEGIN:VEVENT
DTSTART:20190421T170000Z
DTEND:20190421T230000Z
X-MICROSOFT-CDO-ALLDAYEVENT:FALSE
SUMMARY:Oyhut Bay Easter Celebration
DESCRIPTION:Head to Oyhut Bay for a day of fun! Brunch will be served at the Bistro (reservations are recommended)\, and starting at 2pm\, there will be an egg hunt\, visit from the Easter Bunny\, chalk art and more holiday fun!
X-ALT-DESC;FMTTYPE=text/html:Head to Oyhut Bay for a day of fun! Brunch will be served at the Bistro (reservations are recommended)\, and starting at 2pm\, there will be an egg hunt\, visit from the Easter Bunny\, chalk art and more holiday fun!
LOCATION:Oyhut Bay Ocean Shores\, WA
UID:e.26.11921
SEQUENCE:3
DTSTAMP:20260424T150915Z
URL:https://chamber.graysharbor.org/events/details/oyhut-bay-easter-celebration-11921
END:VEVENT

END:VCALENDAR
