BEGIN:VCALENDAR
VERSION:2.0
PRODID:-//ChamberMaster//Event Calendar 2.0//EN
METHOD:PUBLISH
X-PUBLISHED-TTL:P3D
REFRESH-INTERVAL:P3D
CALSCALE:GREGORIAN
BEGIN:VEVENT
DTSTART:20180331T180000Z
DTEND:20180331T190000Z
X-MICROSOFT-CDO-ALLDAYEVENT:FALSE
SUMMARY:Oyhut Bay Fresh Market Ribbon Cutting
DESCRIPTION:Oyhut Bay Fresh Market Ribbon Cutting\n\n\nJoin the Ocean Shores North Beach Chamber and the Oyhut Bay Fresh Market in a ribbon-cutting ceremony. \n\nMeet the owners\, prizes\, samples and more!
X-ALT-DESC;FMTTYPE=text/html:<h1 class="_5gmx" data-testid="event-permalink-event-name" id="seo_h1_tag" style="color: rgb(29\, 33\, 41)\; font-size: 20px\; margin: 0px 12px 0px 0px\; padding: 0px\; font-weight: normal\; line-height: 28px\; font-family: Helvetica\, Arial\, sans-serif\; background-color: rgb(255\, 255\, 255)\;">Oyhut Bay Fresh Market Ribbon Cutting</h1>\n<br />\n<span style="color: rgb(75\, 79\, 86)\; font-family: Helvetica\, Arial\, sans-serif\; font-size: 14px\; background-color: rgb(255\, 255\, 255)\;">Join the Ocean Shores North Beach Chamber and the Oyhut Bay Fresh Market in a ribbon-cutting ceremony.&nbsp\;</span><br style="color: rgb(75\, 79\, 86)\; font-family: Helvetica\, Arial\, sans-serif\; font-size: 14px\; background-color: rgb(255\, 255\, 255)\;" />\n<span style="color: rgb(75\, 79\, 86)\; font-family: Helvetica\, Arial\, sans-serif\; font-size: 14px\; background-color: rgb(255\, 255\, 255)\;">Meet the owners\, prizes\, samples and more!</span>
LOCATION:Oyhut Bay Ocean Shores\, WA
UID:e.26.10568
SEQUENCE:3
DTSTAMP:20260425T115758Z
URL:https://chamber.graysharbor.org/events/details/oyhut-bay-fresh-market-ribbon-cutting-10568
END:VEVENT

END:VCALENDAR
