BEGIN:VCALENDAR
VERSION:2.0
PRODID:-//ChamberMaster//Event Calendar 2.0//EN
METHOD:PUBLISH
X-PUBLISHED-TTL:P3D
REFRESH-INTERVAL:P3D
CALSCALE:GREGORIAN
BEGIN:VEVENT
DTSTART:20200704T190000Z
DTEND:20200705T000000Z
X-MICROSOFT-CDO-ALLDAYEVENT:FALSE
SUMMARY:Oyhut Bay Old Fashioned 4th of July
DESCRIPTION:Activities begin at noon\n	Kids and pet parade at 2pm\n	Music in the plaza at 2:30pm\n	 Family friendly games with prizes\n	Photo-ops\n	Prize for most patriotic outfit\n	Open house to view new homes\n	And much more fun at Oyhut Bay!
X-ALT-DESC;FMTTYPE=text/html:<ul>\n	<li><span style="font-size:14px\;">Activities begin at noon</span></li>\n	<li><span style="font-size:14px\;">Kids and pet parade at 2pm</span></li>\n	<li><span style="font-size:14px\;">Music in the plaza at 2:30pm</span></li>\n	<li><span style="font-size: 14px\;">&#8203\;Family&nbsp\;friendly&nbsp\;games with prizes</span></li>\n	<li><span style="font-size: 14px\;">Photo-ops</span></li>\n	<li><span style="font-size: 14px\;">Prize for most patriotic outfit</span></li>\n	<li><span style="font-size: 14px\;">Open house to view new homes</span></li>\n	<li><span style="font-size: 14px\;">And much more fun at Oyhut Bay!</span></li>\n</ul>\n
LOCATION:Oyhut Bay Ocean Shores
UID:e.26.12478
SEQUENCE:3
DTSTAMP:20260424T133029Z
URL:https://chamber.graysharbor.org/events/details/oyhut-bay-old-fashioned-4th-of-july-12478
END:VEVENT

END:VCALENDAR
