BEGIN:VCALENDAR
VERSION:2.0
PRODID:-//ChamberMaster//Event Calendar 2.0//EN
METHOD:PUBLISH
X-PUBLISHED-TTL:P3D
REFRESH-INTERVAL:P3D
CALSCALE:GREGORIAN
BEGIN:VEVENT
DTSTART:20190420T010000Z
DTEND:20190420T030000Z
X-MICROSOFT-CDO-ALLDAYEVENT:FALSE
SUMMARY:Oyhut Bay Pop-Up Gallery
DESCRIPTION:Come visit Oyhut Bay on April 19th for a Unique Popup Gallery Event\, featuring local artists\, live music and food and beverages!
X-ALT-DESC;FMTTYPE=text/html:<span style="font-size:14px\;"><span style="caret-color: rgb(29\, 33\, 41)\; color: rgb(29\, 33\, 41)\; white-space: pre-wrap\;">Come visit Oyhut Bay on April 19th for a Unique Popup Gallery Event\, featuring local artists\, live music and food and beverages!</span></span>
LOCATION:Oyhut Bay 400 Salmonberry Lane SW Ocean Shores\, WA
UID:e.26.11907
SEQUENCE:3
DTSTAMP:20260424T152921Z
URL:https://chamber.graysharbor.org/events/details/oyhut-bay-pop-up-gallery-11907
END:VEVENT

END:VCALENDAR
