BEGIN:VCALENDAR
VERSION:2.0
PRODID:-//ChamberMaster//Event Calendar 2.0//EN
METHOD:PUBLISH
X-PUBLISHED-TTL:P3D
REFRESH-INTERVAL:P3D
CALSCALE:GREGORIAN
BEGIN:VEVENT
DTSTART:20170902T020000Z
DTEND:20170902T050000Z
X-MICROSOFT-CDO-ALLDAYEVENT:FALSE
SUMMARY:Oyhut Bay Seaside Village Labor Day Kickoff
DESCRIPTION:Come & help us kickoff the Labor Day weekend on the beach at this beauiful new vacation village resort located next to the WA State designated 683-acre Oyhut Wildlife Recreation Area. It not only a birders' paradise but a wonderful place to enjoy live music at their new outdoor amphitheater\, as well as\, the wonderful food & wines from the bistro. Performing on this evening will be:\n\nJackie Mitchell\n\nGeoffrey Hirschfeld\n\nWil Russoul\n\nand me (Lisa Ramsauer)\n\n\n\nFacebook: https://www.facebook.com/events/1585713538140504/?acontext=%7B%22ref%22%3A%2244%22%2C%22unit_ref%22%3A%22suggested_events%22%2C%22action_history%22%3A%22[%7B%5C%22surface%5C%22%3A%5C%22permalink%5C%22%2C%5C%22mechanism%5C%22%3A%5C%22RHC%5C%22%2C%5C%22extra_data%5C%22%3A[]%7D]%22%7D
X-ALT-DESC;FMTTYPE=text/html:<span style="color: rgb(75\, 79\, 86)\; font-family: Helvetica\, Arial\, sans-serif\; font-size: 14px\; background-color: rgb(255\, 255\, 255)\;">Come &amp\; help us kickoff the Labor Day weekend on the beach at this beauiful new vacation village resort located next to the WA State designated 683-acre Oyhut Wildlife Recreation Area. It not only a birders&rsquo\; paradise but a wonderful place to enjoy live music at their new outdoor amphitheater\, as well as\, the wonderful food &amp\; wines from the bistro. Performing on this evening will be:</span><br style="color: rgb(75\, 79\, 86)\; font-family: Helvetica\, Arial\, sans-serif\; font-size: 14px\; background-color: rgb(255\, 255\, 255)\;" />\n<span style="color: rgb(75\, 79\, 86)\; font-family: Helvetica\, Arial\, sans-serif\; font-size: 14px\; background-color: rgb(255\, 255\, 255)\;">Jackie Mitchell</span><br style="color: rgb(75\, 79\, 86)\; font-family: Helvetica\, Arial\, sans-serif\; font-size: 14px\; background-color: rgb(255\, 255\, 255)\;" />\n<span style="color: rgb(75\, 79\, 86)\; font-family: Helvetica\, Arial\, sans-serif\; font-size: 14px\; background-color: rgb(255\, 255\, 255)\;">Geoffrey Hirschfeld</span><br style="color: rgb(75\, 79\, 86)\; font-family: Helvetica\, Arial\, sans-serif\; font-size: 14px\; background-color: rgb(255\, 255\, 255)\;" />\n<span style="color: rgb(75\, 79\, 86)\; font-family: Helvetica\, Arial\, sans-serif\; font-size: 14px\; background-color: rgb(255\, 255\, 255)\;">Wil Russoul</span><br style="color: rgb(75\, 79\, 86)\; font-family: Helvetica\, Arial\, sans-serif\; font-size: 14px\; background-color: rgb(255\, 255\, 255)\;" />\n<span style="color: rgb(75\, 79\, 86)\; font-family: Helvetica\, Arial\, sans-serif\; font-size: 14px\; background-color: rgb(255\, 255\, 255)\;">and me (Lisa Ramsauer)<br />\n<br />\nFacebook:&nbsp\;</span>https://www.facebook.com/events/1585713538140504/?acontext=%7B%22ref%22%3A%2244%22%2C%22unit_ref%22%3A%22suggested_events%22%2C%22action_history%22%3A%22[%7B%5C%22surface%5C%22%3A%5C%22permalink%5C%22%2C%5C%22mechanism%5C%22%3A%5C%22RHC%5C%22%2C%5C%22extra_data%5C%22%3A[]%7D]%22%7D
LOCATION:Oyhut Bay Ocean Shores\, WA
UID:e.26.8161
SEQUENCE:3
DTSTAMP:20260425T214255Z
URL:https://chamber.graysharbor.org/events/details/oyhut-bay-seaside-village-labor-day-kickoff-8161
END:VEVENT

END:VCALENDAR
