BEGIN:VCALENDAR
VERSION:2.0
PRODID:-//ChamberMaster//Event Calendar 2.0//EN
METHOD:PUBLISH
X-PUBLISHED-TTL:P3D
REFRESH-INTERVAL:P3D
CALSCALE:GREGORIAN
BEGIN:VEVENT
DTSTART:20201213T020000Z
DTEND:20201213T040000Z
X-MICROSOFT-CDO-ALLDAYEVENT:FALSE
SUMMARY:Oyhut Bay Seaside Village Santa Visit
DESCRIPTION:Visit Oyhut Bay Seaside Village on Saturday December 12th at 6:00 pm for Santa's arrival to the village square along with the Ocean Shores Fire Department!\n\n\n\nTake an outdoor\, social distanced Santa Selfie in our festive amphitheater\, complete with magical snow!\n\n\n\nStroll and enjoy the lights while sipping complimentary cocoa and candy canes.\n\n\n\nOur onsite restaurant is ready for your visit with safe\, private outdoor seating\, so stay awhile. Dining available 11 am to 8 pm.\n\n\n\nFor more details call Oyhut Bay at 360 209 1886 ext 503
X-ALT-DESC;FMTTYPE=text/html:<div class="kvgmc6g5 cxmmr5t8 oygrvhab hcukyx3x c1et5uql ii04i59q" style="word-wrap: break-word\; margin: 0px\; white-space: pre-wrap\; font-family: system-ui\, -apple-system\, BlinkMacSystemFont\, &quot\;.SFNSText-Regular&quot\;\, sans-serif\; caret-color: rgb(5\, 5\, 5)\; color: rgb(5\, 5\, 5)\; font-size: 15px\;">\n<div dir="auto" style="font-family: inherit\;">Visit Oyhut Bay Seaside Village on Saturday December 12th at 6:00 pm for Santa&#39\;s arrival to the village square along with the Ocean Shores Fire Department!</div>\n</div>\n\n<div class="o9v6fnle cxmmr5t8 oygrvhab hcukyx3x c1et5uql ii04i59q" style="word-wrap: break-word\; margin: 0.5em 0px 0px\; white-space: pre-wrap\; font-family: system-ui\, -apple-system\, BlinkMacSystemFont\, &quot\;.SFNSText-Regular&quot\;\, sans-serif\; caret-color: rgb(5\, 5\, 5)\; color: rgb(5\, 5\, 5)\; font-size: 15px\;">\n<div dir="auto" style="font-family: inherit\;">Take an outdoor\, social distanced Santa Selfie in our festive amphitheater\, complete with magical snow!</div>\n</div>\n\n<div class="o9v6fnle cxmmr5t8 oygrvhab hcukyx3x c1et5uql ii04i59q" style="word-wrap: break-word\; margin: 0.5em 0px 0px\; white-space: pre-wrap\; font-family: system-ui\, -apple-system\, BlinkMacSystemFont\, &quot\;.SFNSText-Regular&quot\;\, sans-serif\; caret-color: rgb(5\, 5\, 5)\; color: rgb(5\, 5\, 5)\; font-size: 15px\;">\n<div dir="auto" style="font-family: inherit\;">Stroll and enjoy the lights while sipping complimentary cocoa and candy canes.</div>\n</div>\n\n<div class="o9v6fnle cxmmr5t8 oygrvhab hcukyx3x c1et5uql ii04i59q" style="word-wrap: break-word\; margin: 0.5em 0px 0px\; white-space: pre-wrap\; font-family: system-ui\, -apple-system\, BlinkMacSystemFont\, &quot\;.SFNSText-Regular&quot\;\, sans-serif\; caret-color: rgb(5\, 5\, 5)\; color: rgb(5\, 5\, 5)\; font-size: 15px\;">\n<div dir="auto" style="font-family: inherit\;">Our onsite restaurant is ready for your visit with safe\, private outdoor seating\, so stay awhile. Dining available 11 am to 8 pm.</div>\n</div>\n\n<div class="o9v6fnle cxmmr5t8 oygrvhab hcukyx3x c1et5uql ii04i59q" style="word-wrap: break-word\; margin: 0.5em 0px 0px\; white-space: pre-wrap\; font-family: system-ui\, -apple-system\, BlinkMacSystemFont\, &quot\;.SFNSText-Regular&quot\;\, sans-serif\; caret-color: rgb(5\, 5\, 5)\; color: rgb(5\, 5\, 5)\; font-size: 15px\;">\n<div dir="auto" style="font-family: inherit\;">For more details call Oyhut Bay at 360 209 1886 ext 503</div>\n</div>\n
LOCATION:Oyhut Bay Seaside Village 400 Salmonberry Lane SW Ocean Shores
UID:e.26.12546
SEQUENCE:3
DTSTAMP:20260424T042233Z
URL:https://chamber.graysharbor.org/events/details/oyhut-bay-seaside-village-santa-visit-12546
END:VEVENT

END:VCALENDAR
