BEGIN:VCALENDAR
VERSION:2.0
PRODID:-//ChamberMaster//Event Calendar 2.0//EN
METHOD:PUBLISH
X-PUBLISHED-TTL:P3D
REFRESH-INTERVAL:P3D
CALSCALE:GREGORIAN
BEGIN:VEVENT
DTSTART:20170616T010000Z
DTEND:20170616T020000Z
X-MICROSOFT-CDO-ALLDAYEVENT:FALSE
SUMMARY:Oyhut Bay Yoga
DESCRIPTION:Yoga Praise
X-ALT-DESC;FMTTYPE=text/html:<span style="color: rgb(80\, 80\, 80)\; font-family: &quot\;Times New Roman&quot\;\,&quot\;serif&quot\;\; font-size: 12pt\; mso-fareast-font-family: Calibri\; mso-fareast-theme-font: minor-latin\; mso-ansi-language: EN-US\; mso-fareast-language: EN-US\; mso-bidi-language: AR-SA\;">Yoga Praise </span>
LOCATION:Wellness Activity Center Oyhut Bay Ocean Shores\, WA
UID:e.26.7735
SEQUENCE:3
DTSTAMP:20260426T015443Z
URL:https://chamber.graysharbor.org/events/details/oyhut-bay-yoga-7735
END:VEVENT

END:VCALENDAR
