BEGIN:VCALENDAR
VERSION:2.0
PRODID:-//ChamberMaster//Event Calendar 2.0//EN
METHOD:PUBLISH
X-PUBLISHED-TTL:P3D
REFRESH-INTERVAL:P3D
CALSCALE:GREGORIAN
BEGIN:VEVENT
DTSTART:20170902T160000Z
DTEND:20170903T000000Z
X-MICROSOFT-CDO-ALLDAYEVENT:FALSE
SUMMARY:"Paddle the Shores" 2017
DESCRIPTION:"Paddle the Shores" 2017 Ocean Shores- Presented by Oyhut Bay\n\n\nJoin us at Oyhut Bay Seaside Village in Ocean Shores on Saturday\, September 2rd as we celebrate Labor Day Weekend on the Natural Side of Ocean Shores. Ocean Shores "Paddle the Shores" paddle event featuring human powered boat races\, Poker Paddle\, Rubber Duck activities\, card board boat construction\, and races. Speakers\, demos\, and fun. Just across the way in the Oyhut Bay Village Square enjoy a 2 day Music Festival Friday\, September 1st and 2nd. Outdoor games including a cornhole tournament.Vendors\, food\, and fun for the entire family. The perfect way to end your summer at Oyhut Bay Seaside Village. Co-sponsored by the Ocean Shores Yacht Club and Fresh Waterways Corporation
X-ALT-DESC;FMTTYPE=text/html:<h1 class="_5gmx" data-testid="event-permalink-event-name" id="seo_h1_tag" style="color: rgb(29\, 33\, 41)\; font-size: 20px\; margin: 0px 12px 0px 0px\; padding: 0px\; font-weight: normal\; line-height: 28px\; font-family: Helvetica\, Arial\, sans-serif\; background-color: rgb(255\, 255\, 255)\;">&quot\;Paddle the Shores&quot\; 2017 Ocean Shores- Presented by Oyhut Bay</h1>\n\n<div class="_4-u2 _3xaf _3-95 _4-u8" style="border-width: 1px 0px\; border-style: solid\; border-image: initial\; border-color: transparent\; border-radius: 3px\; background-color: rgb(255\, 255\, 255)\; margin-bottom: 8px\; position: relative\; font-family: Helvetica\, Arial\, sans-serif\; color: rgb(29\, 33\, 41)\; font-size: 12px\;">\n<div class="_2qgs" style="color: rgb(75\, 79\, 86)\; padding: 12px\; position: relative\; border-top: none\; font-family: inherit\;"><span class="_4n-j _3cht fsl" data-testid="event-permalink-details" style="font-size: 14px\; font-family: inherit\;">Join us at Oyhut Bay Seaside Village in Ocean Shores on Saturday\, September 2rd as we celebrate Labor Day Weekend on the Natural Side of Ocean Shores. Ocean Shores &quot\;Paddle the Shores&quot\; paddle event featuring human powered boat races\, Poker Paddle\, Rubber Duck activities\, card board boat construction\, and races. Speakers\, demos\, and fun. Just across the way in the Oyhut Bay Village Square enjoy a 2 day Music Festival Friday\, September 1st and 2nd. Outdoor games including a cornhole tournament.Vendors\, food\, and fun for the entire family. The perfect way to end your summer at Oyhut Bay Seaside Village. Co-sponsored by the Ocean Shores Yacht Club and Fresh Waterways Corporation</span></div>\n</div>\n
LOCATION:Oyhut Bay Water Recreation Area Ocean Shores\, WA
UID:e.26.8162
SEQUENCE:3
DTSTAMP:20260425T213746Z
URL:https://chamber.graysharbor.org/events/details/paddle-the-shores-2017-8162
END:VEVENT

END:VCALENDAR
