BEGIN:VCALENDAR
VERSION:2.0
PRODID:-//ChamberMaster//Event Calendar 2.0//EN
METHOD:PUBLISH
X-PUBLISHED-TTL:P3D
REFRESH-INTERVAL:P3D
CALSCALE:GREGORIAN
BEGIN:VEVENT
DTSTART:20180907T010000Z
DTEND:20180907T030000Z
X-MICROSOFT-CDO-ALLDAYEVENT:FALSE
SUMMARY:Paint N Chill with Todd
DESCRIPTION:Join Todd Fischer as he teaches us to paint a piece of Pacific NorthWest on a 12"x12" canvas. $40 per person includes art supplies. No Experience required. 20 spots available. Reserve today! Call 360 - 268 - 1119
X-ALT-DESC;FMTTYPE=text/html:<span style="color: rgb(29\, 33\, 41)\; font-family: Helvetica\, Arial\, sans-serif\; font-size: 14px\; background-color: rgb(255\, 255\, 255)\;">Join Todd Fischer as he teaches us to paint a piece of Pacific NorthWest on a 12&quot\;x12&quot\; canvas. $40 per person includes art supplies. No Experience required. 20 spots available. Reserve today! Call 360 - 268 - 1119&nbsp\;</span>
LOCATION:pin Todd Fischer Art Westport 260 E. Dock St.\, Westport\, Washington 98595
UID:e.26.11228
SEQUENCE:3
DTSTAMP:20260425T015446Z
URL:https://chamber.graysharbor.org/events/details/paint-n-chill-with-todd-11228
END:VEVENT

END:VCALENDAR
