BEGIN:VCALENDAR
VERSION:2.0
PRODID:-//ChamberMaster//Event Calendar 2.0//EN
METHOD:PUBLISH
X-PUBLISHED-TTL:P3D
REFRESH-INTERVAL:P3D
CALSCALE:GREGORIAN
BEGIN:VEVENT
DTSTART:20190414T013000Z
DTEND:20190414T033000Z
X-MICROSOFT-CDO-ALLDAYEVENT:FALSE
SUMMARY:Paint & Sip Fundraiser- Aberdeen Founders Day '19
DESCRIPTION:Come out for a little fun and music. Helping to raise funds to support Founders Day festivities 2019.
X-ALT-DESC;FMTTYPE=text/html:<span style="caret-color: rgb(29\, 33\, 41)\; color: rgb(29\, 33\, 41)\; font-family: system-ui\, -apple-system\, BlinkMacSystemFont\, &quot\;.SFNSText-Regular&quot\;\, sans-serif\; font-size: 14px\; white-space: pre-wrap\; background-color: rgb(255\, 255\, 255)\;">Come out for a little fun and music. Helping to raise funds to support Founders Day festivities 2019.</span>
LOCATION:pin Grays Harbor Historical Seaport 500 N Custer St\, PO Box 2019\, Aberdeen\, Washington 98520
UID:e.26.11801
SEQUENCE:3
DTSTAMP:20260424T163641Z
URL:https://chamber.graysharbor.org/events/details/paint-sip-fundraiser-aberdeen-founders-day-19-11801
END:VEVENT

END:VCALENDAR
