BEGIN:VCALENDAR
VERSION:2.0
PRODID:-//ChamberMaster//Event Calendar 2.0//EN
METHOD:PUBLISH
X-PUBLISHED-TTL:P3D
REFRESH-INTERVAL:P3D
CALSCALE:GREGORIAN
BEGIN:VEVENT
DTSTART:20120728T160000Z
DTEND:20120728T180000Z
X-MICROSOFT-CDO-ALLDAYEVENT:FALSE
SUMMARY:Paint the Corridor Kickoff 2012!!!
DESCRIPTION:The Paint the Corridor Kickoff will be held on July 28th at 9 am at the\n\nBarrier West Warehouse in Aberdeen:\n\n\n\n2110 Commerce St  (across from Home Depot off the Port Dock Road)\n\n\n\nTeams will be painting throughout August-September..... Teams looking\n\nto volunteer\, please call Dave Murnen at NeighborWorks of Grays Harbor at\n\n360-533-7828.\n\n\n\nTeams and Volunteers will be receiving the paint and materials for\n\nyour house\, signing volunteer forms and receiving their team t-shirts.\n\n\n\nLight refreshments and coffee will be provided.\n\n\n\nVolunteers will be going out after the kickoff to start working on\n\nhomes... so bring a ladder and your appetite.\n\n\n\nSee you on July 28th!!!
X-ALT-DESC;FMTTYPE=text/html:<span class="Apple-style-span" style="border-collapse: collapse\; font-family: arial\, sans-serif\; font-size: 13px">The Paint the Corridor Kickoff will be held on July 28th at 9 am at the<br />\nBarrier West Warehouse in Aberdeen:<br />\n<br />\n2110 Commerce St &nbsp\;(across from Home Depot off the Port Dock Road)<br />\n<br />\nTeams will be painting throughout August-September..... Teams looking<br />\nto volunteer\, please call Dave Murnen at NeighborWorks of Grays Harbor at<br />\n<a href="tel:360-533-7828" style="color: rgb(17\,85\,204)" value="+13605337828">360-533-7828</a>.<br />\n<br />\nTeams and Volunteers will be receiving the paint and materials for<br />\nyour house\, signing volunteer forms and receiving their team t-shirts.<br />\n<br />\nLight refreshments and coffee will be provided.<br />\n<br />\nVolunteers will be going out after the kickoff to start working on<br />\nhomes... so bring a ladder and your appetite.<br />\n<br />\nSee you on July 28th!!!</span>
LOCATION:Barrier West Warehouse - 2110 Commerce St (across from Home Depot off the Port Dock Road)
UID:e.26.2289
SEQUENCE:3
DTSTAMP:20260422T060949Z
URL:https://chamber.graysharbor.org/events/details/paint-the-corridor-kickoff-2012-07-28-2012-2289
END:VEVENT

END:VCALENDAR
