BEGIN:VCALENDAR
VERSION:2.0
PRODID:-//ChamberMaster//Event Calendar 2.0//EN
METHOD:PUBLISH
X-PUBLISHED-TTL:P3D
REFRESH-INTERVAL:P3D
CALSCALE:GREGORIAN
BEGIN:VEVENT
DTSTART:20180211T010000Z
DTEND:20180211T060000Z
X-MICROSOFT-CDO-ALLDAYEVENT:FALSE
SUMMARY:Pair of Hearts 2018 Fundraiser
DESCRIPTION:Please join us for our annual Pair of Hearts Ball fundraiser to benefit Connections (formerly Children's Advocacy Center).\n\n\n\nThere will be dinner\, dancing\, and silent auction at QBRC!
X-ALT-DESC;FMTTYPE=text/html:<span style="color: rgb(75\, 79\, 86)\; font-family: Helvetica\, Arial\, sans-serif\; font-size: 14px\; background-color: rgb(255\, 255\, 255)\;">Please join us for our annual Pair of Hearts Ball fundraiser to benefit Connections (formerly Children&#39\;s Advocacy Center).</span><br style="color: rgb(75\, 79\, 86)\; font-family: Helvetica\, Arial\, sans-serif\; font-size: 14px\; background-color: rgb(255\, 255\, 255)\;" />\n<br style="color: rgb(75\, 79\, 86)\; font-family: Helvetica\, Arial\, sans-serif\; font-size: 14px\; background-color: rgb(255\, 255\, 255)\;" />\n<span style="color: rgb(75\, 79\, 86)\; font-family: Helvetica\, Arial\, sans-serif\; font-size: 14px\; background-color: rgb(255\, 255\, 255)\;">There will be dinner\, dancing\, and silent auction at QBRC!</span>
LOCATION:Quinault Beach Resort and Casino Ocean Shores\, WA
UID:e.26.9404
SEQUENCE:3
DTSTAMP:20260425T132918Z
URL:https://chamber.graysharbor.org/events/details/pair-of-hearts-2018-fundraiser-9404
END:VEVENT

END:VCALENDAR
