BEGIN:VCALENDAR
VERSION:2.0
PRODID:-//ChamberMaster//Event Calendar 2.0//EN
METHOD:PUBLISH
X-PUBLISHED-TTL:P3D
REFRESH-INTERVAL:P3D
CALSCALE:GREGORIAN
BEGIN:VEVENT
DTSTART:20190217T010000Z
DTEND:20190217T070000Z
X-MICROSOFT-CDO-ALLDAYEVENT:FALSE
SUMMARY:Pair of Hearts Ball
DESCRIPTION:The 13th Annual Pair of Hearts Ball is Connection's biggest fundraiser. Come have an excellent dinner\, plays some games\, and bid on some great silent auction items all while supporting the great work done for the community at the center!
X-ALT-DESC;FMTTYPE=text/html:<span style="caret-color: rgb(29\, 33\, 41)\; color: rgb(29\, 33\, 41)\; font-family: system-ui\, -apple-system\, BlinkMacSystemFont\, &quot\;.SFNSText-Regular&quot\;\, sans-serif\; font-size: 14px\; white-space: pre-wrap\; background-color: rgb(255\, 255\, 255)\;">The 13th Annual Pair of Hearts Ball is Connection&#39\;s biggest fundraiser. Come have an excellent dinner\, plays some games\, and bid on some great silent auction items all while supporting the great work done for the community at the center! </span>
LOCATION:Quinault Beach Resort and Casino Ocean Shores\, WA
UID:e.26.11634
SEQUENCE:3
DTSTAMP:20260424T194448Z
URL:https://chamber.graysharbor.org/events/details/pair-of-hearts-ball-11634
END:VEVENT

END:VCALENDAR
