BEGIN:VCALENDAR
VERSION:2.0
PRODID:-//ChamberMaster//Event Calendar 2.0//EN
METHOD:PUBLISH
X-PUBLISHED-TTL:P3D
REFRESH-INTERVAL:P3D
CALSCALE:GREGORIAN
BEGIN:VEVENT
DTSTART;VALUE=DATE:20200215
DTEND;VALUE=DATE:20200216
TRANSP:TRANSPARENT
X-MICROSOFT-CDO-ALLDAYEVENT:TRUE
SUMMARY:Pair of Hearts Ball
DESCRIPTION:Join Connections for a fun night of food\, games\, and auctions items all for a great cause.
X-ALT-DESC;FMTTYPE=text/html:<span style="caret-color: rgb(29\, 33\, 41)\; color: rgb(29\, 33\, 41)\; font-family: system-ui\, -apple-system\, BlinkMacSystemFont\, &quot\;.SFNSText-Regular&quot\;\, sans-serif\; font-size: 14px\; white-space: pre-wrap\;">Join Connections for a fun night of food\, games\, and auctions items all for a great cause.</span>
LOCATION:pin Quinault Beach Resort and Casino
UID:e.26.12218
SEQUENCE:3
DTSTAMP:20260424T025613Z
URL:https://chamber.graysharbor.org/events/details/pair-of-hearts-ball-12218
END:VEVENT

END:VCALENDAR
