BEGIN:VCALENDAR
VERSION:2.0
PRODID:-//ChamberMaster//Event Calendar 2.0//EN
METHOD:PUBLISH
X-PUBLISHED-TTL:P3D
REFRESH-INTERVAL:P3D
CALSCALE:GREGORIAN
BEGIN:VEVENT
DTSTART:20171209T170000Z
DTEND:20171209T190000Z
X-MICROSOFT-CDO-ALLDAYEVENT:FALSE
SUMMARY:Pancakes with Santa!
DESCRIPTION:Join us for Pancakes with Santa!!! Bring your camera take some pictures with Santa Claus while you enjoy our pancake bar and scrambled eggs! \n\nTickets are available in the Steven's office\, and students will have order forms sent home soon!\n\nPrices are: Adults $5\, Kids 17 & under $3\, tickets will be available at the door\, but we encourage you to buy in advance!
X-ALT-DESC;FMTTYPE=text/html:<span style="color: rgb(75\, 79\, 86)\; font-family: Helvetica\, Arial\, sans-serif\; font-size: 14px\; background-color: rgb(255\, 255\, 255)\;">Join us for Pancakes with Santa!!! Bring your camera take some pictures with Santa Claus while you enjoy our pancake bar and scrambled eggs!&nbsp\;</span><br style="color: rgb(75\, 79\, 86)\; font-family: Helvetica\, Arial\, sans-serif\; font-size: 14px\; background-color: rgb(255\, 255\, 255)\;" />\n<span style="color: rgb(75\, 79\, 86)\; font-family: Helvetica\, Arial\, sans-serif\; font-size: 14px\; background-color: rgb(255\, 255\, 255)\;">Tickets are available in the Steven&#39\;s office\, and students will have order forms sent home soon!</span><br style="color: rgb(75\, 79\, 86)\; font-family: Helvetica\, Arial\, sans-serif\; font-size: 14px\; background-color: rgb(255\, 255\, 255)\;" />\n<span style="color: rgb(75\, 79\, 86)\; font-family: Helvetica\, Arial\, sans-serif\; font-size: 14px\; background-color: rgb(255\, 255\, 255)\;">Prices are: Adults $5\, Kids 17 &amp\; under $3\, tickets will be available at the door\, but we encourage you to buy in advance!</span>
LOCATION:Stevens Elementary School 301 S Farragut St. Aberdeen
UID:e.26.8339
SEQUENCE:3
DTSTAMP:20260425T163750Z
URL:https://chamber.graysharbor.org/events/details/pancakes-with-santa-8339
END:VEVENT

END:VCALENDAR
