BEGIN:VCALENDAR
VERSION:2.0
PRODID:-//ChamberMaster//Event Calendar 2.0//EN
METHOD:PUBLISH
X-PUBLISHED-TTL:P3D
REFRESH-INTERVAL:P3D
CALSCALE:GREGORIAN
BEGIN:VEVENT
DTSTART:20190329T183000Z
DTEND:20190329T193000Z
X-MICROSOFT-CDO-ALLDAYEVENT:FALSE
SUMMARY:Parkway Tavern Ribbon Cutting
DESCRIPTION:The GGHI Ambassador's would like to invite you to a ribbon cutting event at Parkway Tavern on Friday\, March 29th at 11:30am! They are located at 417 N Park St. in Aberdeen. This ribbon cutting is to celebrate the business' recent changes including new ownership and the addition of a lunch service. \n\n\n\nWe hope to see you there!
X-ALT-DESC;FMTTYPE=text/html:&nbsp\;<span style="caret-color: rgb(29\, 33\, 41)\; color: rgb(29\, 33\, 41)\; font-family: system-ui\, -apple-system\, BlinkMacSystemFont\, &quot\;.SFNSText-Regular&quot\;\, sans-serif\; font-size: 14px\; white-space: pre-wrap\;">The GGHI Ambassador&rsquo\;s would like to invite you to a ribbon cutting event at Parkway Tavern on Friday\, March 29th at 11:30am! They are located at 417 N Park St. in Aberdeen. This ribbon cutting is to celebrate the business&rsquo\; recent changes including new ownership and the addition of a lunch service. </span><br style="caret-color: rgb(29\, 33\, 41)\; color: rgb(29\, 33\, 41)\; font-family: system-ui\, -apple-system\, BlinkMacSystemFont\, &quot\;.SFNSText-Regular&quot\;\, sans-serif\; font-size: 14px\; white-space: pre-wrap\;" />\n<br style="caret-color: rgb(29\, 33\, 41)\; color: rgb(29\, 33\, 41)\; font-family: system-ui\, -apple-system\, BlinkMacSystemFont\, &quot\;.SFNSText-Regular&quot\;\, sans-serif\; font-size: 14px\; white-space: pre-wrap\;" />\n<span style="caret-color: rgb(29\, 33\, 41)\; color: rgb(29\, 33\, 41)\; font-family: system-ui\, -apple-system\, BlinkMacSystemFont\, &quot\;.SFNSText-Regular&quot\;\, sans-serif\; font-size: 14px\; white-space: pre-wrap\;">We hope to see you there!</span>
LOCATION:Parkway Tavern 417 N Park St. Aberdeen\, WA
UID:e.26.11889
SEQUENCE:3
DTSTAMP:20260424T181615Z
URL:https://chamber.graysharbor.org/events/details/parkway-tavern-ribbon-cutting-11889
END:VEVENT

END:VCALENDAR
