BEGIN:VCALENDAR
VERSION:2.0
PRODID:-//ChamberMaster//Event Calendar 2.0//EN
METHOD:PUBLISH
X-PUBLISHED-TTL:P3D
REFRESH-INTERVAL:P3D
CALSCALE:GREGORIAN
BEGIN:VEVENT
DTSTART;VALUE=DATE:20170603
DTEND;VALUE=DATE:20170604
TRANSP:TRANSPARENT
X-MICROSOFT-CDO-ALLDAYEVENT:TRUE
SUMMARY:Passport to Grays Harbor History Celebration
DESCRIPTION:Open House at all 12 Grays Harbor Museums. Be among the first to get the new History Passport and start collecting your stamps. Contact each museum for their event details or go to graysharbormuseums.org.
X-ALT-DESC;FMTTYPE=text/html:Open House at all 12 Grays Harbor Museums.&nbsp\;Be among the first to get the new History Passport and start collecting your stamps.&nbsp\;Contact each museum for their event details&nbsp\;or go to graysharbormuseums.org.
LOCATION:Aberdeen\, Hoquiam\, McCleary\, Moclips\, Montesano\, Ocean Shores\, Quinault\, Taholah\, Westport
UID:e.26.6523
SEQUENCE:3
DTSTAMP:20260426T033011Z
URL:https://chamber.graysharbor.org/events/details/passport-to-grays-harbor-history-celebration-6523
END:VEVENT

END:VCALENDAR
