BEGIN:VCALENDAR
VERSION:2.0
PRODID:-//ChamberMaster//Event Calendar 2.0//EN
METHOD:PUBLISH
X-PUBLISHED-TTL:P3D
REFRESH-INTERVAL:P3D
CALSCALE:GREGORIAN
BEGIN:VEVENT
DTSTART:20130419T020000Z
DTEND:20130419T040000Z
X-MICROSOFT-CDO-ALLDAYEVENT:FALSE
SUMMARY:Patrick's Garner's history Alive: Thomas Edison
DESCRIPTION:The greatest inventor of all time\, Thomas Alva Edison (aka Patrick Garner) will engage the audience as they help recreate some of his most famous experiments. At the same time\, he shares key secrets for success in day-to-day life: the value of hard work\, the value of mistakes\, the value of turning liabilities into assets\, and the value of enjoying one's work.
X-ALT-DESC;FMTTYPE=text/html:<p class="MsoNormal" style="margin: 0in 0in 10pt">\n	<span style="font-family: tahoma"><span style="font-size: 12px"><font color="#000000">The greatest inventor of all time\, Thomas Alva Edison (aka Patrick Garner) will engage the audience as they help recreate some of his most famous experiments. At the same time\, he shares key secrets for success in day-to-day life: the value of hard work\, the value of mistakes\, the value of turning liabilities into assets\, and the value of enjoying one&rsquo\;s work.</font></span></span></p>\n
LOCATION:Grays Harbor College Bishop Center
UID:e.26.2532
SEQUENCE:3
DTSTAMP:20260423T045953Z
URL:https://chamber.graysharbor.org/events/details/patrick-s-garner-s-history-alive-thomas-edison-04-18-2013-2532
END:VEVENT

END:VCALENDAR
