BEGIN:VCALENDAR
VERSION:2.0
PRODID:-//ChamberMaster//Event Calendar 2.0//EN
METHOD:PUBLISH
X-PUBLISHED-TTL:P3D
REFRESH-INTERVAL:P3D
CALSCALE:GREGORIAN
BEGIN:VEVENT
DTSTART:20130220T023000Z
DTEND:20130220T033000Z
X-MICROSOFT-CDO-ALLDAYEVENT:FALSE
SUMMARY:Patsy Cline Tribute
DESCRIPTION:Southwest Washington's own Elizabeth Stierle will present her tribute to singer Patsy Cline. Accompanied by her husband Paul\, Stierle will sing some of the well-loved songs Cline recorded\, illustrating the singer's development as one of the first crossover artists from country to pop.
X-ALT-DESC;FMTTYPE=text/html:Southwest Washington&#39\;s own Elizabeth Stierle will present her tribute to singer Patsy Cline. Accompanied by her husband Paul\, Stierle will sing some of the well-loved songs Cline recorded\, illustrating the singer&#39\;s development as one of the first crossover artists from country to pop.
LOCATION:Aberdeen Timberland Library 121 E. Market St.
UID:e.26.2597
SEQUENCE:3
DTSTAMP:20260419T222558Z
URL:https://chamber.graysharbor.org/events/details/patsy-cline-tribute-02-19-2013-2597
END:VEVENT

END:VCALENDAR
