BEGIN:VCALENDAR
VERSION:2.0
PRODID:-//ChamberMaster//Event Calendar 2.0//EN
METHOD:PUBLISH
X-PUBLISHED-TTL:P3D
REFRESH-INTERVAL:P3D
CALSCALE:GREGORIAN
BEGIN:VEVENT
DTSTART:20181111T010000Z
DTEND:20181111T050000Z
X-MICROSOFT-CDO-ALLDAYEVENT:FALSE
SUMMARY:Paul Bouma Returns to the Shilo Inn
DESCRIPTION:Welcome Paul Bouma back to the Shilo Inn Lounge on Saturday nights\, playing live piano music for your enjoyment!
X-ALT-DESC;FMTTYPE=text/html:Welcome Paul Bouma back to the Shilo Inn Lounge on Saturday nights\, playing live piano music for your enjoyment!
LOCATION:Shilo Inn Restaurant and Lounge 707 Ocean Shores Blvd NW Ocean Shores
UID:e.26.11329
SEQUENCE:3
DTSTAMP:20260424T224426Z
URL:https://chamber.graysharbor.org/events/details/paul-bouma-returns-to-the-shilo-inn-11329
END:VEVENT

END:VCALENDAR
