BEGIN:VCALENDAR
VERSION:2.0
PRODID:-//ChamberMaster//Event Calendar 2.0//EN
METHOD:PUBLISH
X-PUBLISHED-TTL:P3D
REFRESH-INTERVAL:P3D
CALSCALE:GREGORIAN
BEGIN:VEVENT
DTSTART:20190830T170000Z
DTEND:20190830T210000Z
X-MICROSOFT-CDO-ALLDAYEVENT:FALSE
SUMMARY:PAWS Garage Sale
DESCRIPTION:PAWS of Grays Harbor is hosting a "cleaning house" garage sale! There will be lots of pet items like dog kennels\, carriers\, cat trees\, grooming supplies and much more!\n\nAll proceeds go to PAWS of Grays Harbor's Low Cost Spay and Neuter Voucher program. This program provides Grays Harbor community members a low cost option to be responsible and alter their pets at Brady Veterinary Hospital.
X-ALT-DESC;FMTTYPE=text/html:<span style="font-size:14px\;"><span style="font-family:arial\;"><span style="caret-color: rgb(29\, 33\, 41)\; color: rgb(29\, 33\, 41)\; white-space: pre-wrap\;">PAWS of Grays Harbor is hosting a &ldquo\;cleaning house&rdquo\; garage sale! There will be lots of pet items like dog kennels\, carriers\, cat trees\, grooming supplies and much more!</span><br style="caret-color: rgb(29\, 33\, 41)\; color: rgb(29\, 33\, 41)\; font-family: system-ui\, -apple-system\, BlinkMacSystemFont\, &quot\;.SFNSText-Regular&quot\;\, sans-serif\; font-size: 14px\; white-space: pre-wrap\;" />\n<span style="caret-color: rgb(29\, 33\, 41)\; color: rgb(29\, 33\, 41)\; white-space: pre-wrap\;">All proceeds go to PAWS of Grays Harbor&rsquo\;s Low Cost Spay and Neuter Voucher program. This program provides Grays Harbor community members a low cost option to be responsible and alter their pets at Brady Veterinary Hospital. </span></span></span>
LOCATION:PAWS of Grays Harbor 800 W 1st St. Aberdeen\, WA
UID:e.26.12141
SEQUENCE:3
DTSTAMP:20260424T090307Z
URL:https://chamber.graysharbor.org/events/details/paws-garage-sale-12141
END:VEVENT

END:VCALENDAR
