BEGIN:VCALENDAR
VERSION:2.0
PRODID:-//ChamberMaster//Event Calendar 2.0//EN
METHOD:PUBLISH
X-PUBLISHED-TTL:P3D
REFRESH-INTERVAL:P3D
CALSCALE:GREGORIAN
BEGIN:VEVENT
DTSTART:20210115T200000Z
DTEND:20210115T210000Z
X-MICROSOFT-CDO-ALLDAYEVENT:FALSE
SUMMARY:Paycheck Protection Program Q&A on FB Live
DESCRIPTION:Do you have questions regarding the recently re-opened Paycheck Protection Program (PPP)? \n\nTune in on Friday\, January 15th at noon to learn more from local industry leaders\, including:\n\n\n\n- Lynnette Buffington: Greater Grays Harbor\, Inc. CEO\n\n- Mia Johnstone: Small Business Development Center Advisor \n\n- Tony Enzler: Bank of the Pacific\n\n- Ynette Gibbs: Newrizons Federal Credit Union\n\n\n\nThey will be taking your questions live to help you better under the PPP.
X-ALT-DESC;FMTTYPE=text/html:<span style="font-size:14px\;"><span style="font-family:arial\;"><span style="color:#000000\;">Do you have questions regarding the recently re-opened Paycheck Protection Program (PPP)?&nbsp\;<br />\nTune in on Friday\, January 15th at noon to learn more from local industry leaders\, including:<br />\n<br />\n- Lynnette Buffington: Greater Grays Harbor\, Inc. CEO<br />\n- Mia Johnstone: Small Business Development Center Advisor&nbsp\;<br />\n- Tony Enzler: Bank of the Pacific<br />\n- Ynette Gibbs: Newrizons Federal Credit Union<br />\n<br />\nThey will be taking your questions live to help you better under the PPP.</span></span></span>
LOCATION:Online - Facebook Live https://www.facebook.com/events/1113863852396713
UID:e.26.12571
SEQUENCE:3
DTSTAMP:20260424T024304Z
URL:https://chamber.graysharbor.org/events/details/paycheck-protection-program-q-a-on-fb-live-12571
END:VEVENT

END:VCALENDAR
