BEGIN:VCALENDAR
VERSION:2.0
PRODID:-//ChamberMaster//Event Calendar 2.0//EN
METHOD:PUBLISH
X-PUBLISHED-TTL:P3D
REFRESH-INTERVAL:P3D
CALSCALE:GREGORIAN
BEGIN:VEVENT
DTSTART:20171014T153000Z
DTEND:20171014T180000Z
X-MICROSOFT-CDO-ALLDAYEVENT:FALSE
SUMMARY:Peak Health 5k
DESCRIPTION:Start your morning off at our 5k before attending our annual Wellness Fair! All levels of runners and walkers welcome. Join us as we take off from the SPMC campus and go on an easygoing trek through Elma. Runners will be timed with recognition being awarded to the top finishers in each category.
X-ALT-DESC;FMTTYPE=text/html:<span style="color: rgb(75\, 79\, 86)\; font-family: Helvetica\, Arial\, sans-serif\; font-size: 14px\; background-color: rgb(255\, 255\, 255)\;">Start your morning off at our 5k before attending our annual Wellness Fair! All levels of runners and walkers welcome. Join us as we take off from the SPMC campus and go on an easygoing trek through Elma. Runners will be timed with recognition being awarded to the top finishers in each category.</span>
LOCATION:Summit Pacific Medical Center 600 East Main St. Elma\, WA
UID:e.26.8221
SEQUENCE:3
DTSTAMP:20260425T213255Z
URL:https://chamber.graysharbor.org/events/details/peak-health-5k-8221
END:VEVENT

END:VCALENDAR
