BEGIN:VCALENDAR
VERSION:2.0
PRODID:-//ChamberMaster//Event Calendar 2.0//EN
METHOD:PUBLISH
X-PUBLISHED-TTL:P3D
REFRESH-INTERVAL:P3D
CALSCALE:GREGORIAN
BEGIN:VEVENT
DTSTART:20181013T170000Z
DTEND:20181013T210000Z
X-MICROSOFT-CDO-ALLDAYEVENT:FALSE
SUMMARY:Peak Health Wellness Fair
DESCRIPTION:Summit Pacific Medical Center is excited to invite the community to this free event! This event features a wide range of attractions and vendors that truly offers something for everyone. Enjoy a free massage\, bring the kids to tour a fire truck and ambulance\, get an eye exam\, hearing test\, or flu vaccine! Collect swag\, chat with health and wellness vendors\, enter to win a door prize and more!
X-ALT-DESC;FMTTYPE=text/html:<span style="color: rgb(75\, 79\, 86)\; font-family: Helvetica\, Arial\, sans-serif\; font-size: 14px\; background-color: rgb(255\, 255\, 255)\;">Summit Pacific Medical Center is excited to invite the community to this free event! This event features a wide range of attractions and vendors that truly offers something for everyone. Enjoy a free massage\, bring the kids to tour a fire truck and ambulance\, get an eye exam\, hearing test\, or flu vaccine! Collect swag\, chat with health and wellness vendors\, enter to win a door prize and more!</span>
LOCATION:Elma Fairgrounds
UID:e.26.10564
SEQUENCE:3
DTSTAMP:20260425T002201Z
URL:https://chamber.graysharbor.org/events/details/peak-health-wellness-fair-10564
END:VEVENT

END:VCALENDAR
