BEGIN:VCALENDAR
VERSION:2.0
PRODID:-//ChamberMaster//Event Calendar 2.0//EN
METHOD:PUBLISH
X-PUBLISHED-TTL:P3D
REFRESH-INTERVAL:P3D
CALSCALE:GREGORIAN
BEGIN:VEVENT
DTSTART:20190815T040000Z
DTEND:20190815T090000Z
X-MICROSOFT-CDO-ALLDAYEVENT:FALSE
SUMMARY:Perspective Album Release Party
DESCRIPTION:Crown the Kings Entertainment / Artist Helping Artist LLC Present: The Perspective Album Release Party Starring: ReaLife w/ DJ Eskro & Special Guest Performers
X-ALT-DESC;FMTTYPE=text/html:Crown the Kings Entertainment / Artist Helping Artist LLC Present: The Perspective Album Release Party Starring: ReaLife w/ DJ Eskro &amp\; Special Guest Performers
LOCATION:NW Passage 617 W. Curtis St. Aberdeen\, WA
UID:e.26.12120
SEQUENCE:3
DTSTAMP:20260424T103449Z
URL:https://chamber.graysharbor.org/events/details/perspective-album-release-party-12120
END:VEVENT

END:VCALENDAR
