BEGIN:VCALENDAR
VERSION:2.0
PRODID:-//ChamberMaster//Event Calendar 2.0//EN
METHOD:PUBLISH
X-PUBLISHED-TTL:P3D
REFRESH-INTERVAL:P3D
CALSCALE:GREGORIAN
BEGIN:VEVENT
DTSTART:20191223T190000Z
DTEND:20191223T210000Z
X-MICROSOFT-CDO-ALLDAYEVENT:FALSE
SUMMARY:Pet Pictures with Santa
DESCRIPTION:Join PAWS of Grays Harbor and Rick Moyer of Moyer Multi Media at our shelter for Pet Pictures with Santa! You will receive an instant Polaroid photo of your pet with Santa\, as well as a digital version offered through Rick's website.
X-ALT-DESC;FMTTYPE=text/html:<span style="caret-color: rgb(29\, 33\, 41)\; color: rgb(29\, 33\, 41)\; font-family: system-ui\, -apple-system\, BlinkMacSystemFont\, &quot\;.SFNSText-Regular&quot\;\, sans-serif\; font-size: 14px\; white-space: pre-wrap\;">Join PAWS of Grays Harbor and Rick Moyer of Moyer Multi Media at our shelter for Pet Pictures with Santa! You will receive an instant Polaroid photo of your pet with Santa\, as well as a digital version offered through Rick&#39\;s website. </span>
LOCATION:pin PAWS of Grays Harbor 800 W 1st St\, Aberdeen\, Washington 98520
UID:e.26.12307
SEQUENCE:3
DTSTAMP:20260424T025551Z
URL:https://chamber.graysharbor.org/events/details/pet-pictures-with-santa-12307
END:VEVENT

END:VCALENDAR
