BEGIN:VCALENDAR
VERSION:2.0
PRODID:-//ChamberMaster//Event Calendar 2.0//EN
METHOD:PUBLISH
X-PUBLISHED-TTL:P3D
REFRESH-INTERVAL:P3D
CALSCALE:GREGORIAN
BEGIN:VEVENT
DTSTART;VALUE=DATE:20180427
DTEND;VALUE=DATE:20180430
TRANSP:TRANSPARENT
X-MICROSOFT-CDO-ALLDAYEVENT:TRUE
SUMMARY:Photo and Fine Arts Show
DESCRIPTION:Artists compete for thousands of dollars in prizes in judged competitions on works including fine arts\, photography\, and 3D. Fine art will include oils\, acrylics\, pen and pencil\, watercolor\, pastel\, etc. Photography pieces will include film\, digital\, and electronic media. 3D art includes pieces such as fiber art\, leather work\, carvings\, sculptures\, etc.\nFor more information contact www.associatedarts.org/
X-ALT-DESC;FMTTYPE=text/html:<p style="margin-bottom: 0px\; color: rgb(49\, 49\, 49)\; font-family: open_sansregular\, Arial\, Verdana\, sans-serif\; font-size: 12px\; background-color: rgb(255\, 255\, 255)\;">Artists compete for thousands of dollars in prizes in judged competitions on works including fine arts\, photography\, and 3D. Fine art will include oils\, acrylics\, pen and pencil\, watercolor\, pastel\, etc. Photography pieces will include film\, digital\, and electronic media. 3D art includes pieces such as fiber art\, leather work\, carvings\, sculptures\, etc.</p>\n<span style="color: rgb(49\, 49\, 49)\; font-family: open_sansregular\, Arial\, Verdana\, sans-serif\; font-size: 12px\; background-color: rgb(255\, 255\, 255)\;">For more information contact&nbsp\;</span><a href="http://www.associatedarts.org/" style="font-family: open_sansregular\, Arial\, Verdana\, sans-serif\; font-size: 12px\; background-color: rgb(255\, 255\, 255)\; color: rgb(0\, 0\, 0) !important\;">www.associatedarts.org/</a>
LOCATION:Ocean Shores Convention Center
UID:e.26.9514
SEQUENCE:3
DTSTAMP:20260425T113731Z
URL:https://chamber.graysharbor.org/events/details/photo-and-fine-arts-show-9514
END:VEVENT

END:VCALENDAR
