BEGIN:VCALENDAR
VERSION:2.0
PRODID:-//ChamberMaster//Event Calendar 2.0//EN
METHOD:PUBLISH
X-PUBLISHED-TTL:P3D
REFRESH-INTERVAL:P3D
CALSCALE:GREGORIAN
BEGIN:VEVENT
DTSTART;VALUE=DATE:20190622
DTEND;VALUE=DATE:20190624
TRANSP:TRANSPARENT
X-MICROSOFT-CDO-ALLDAYEVENT:TRUE
SUMMARY:Pirates of Penzance
DESCRIPTION:"The Pirates of Penzance" (abridged)\, Gilbert and Sullivan's swashbuckling comedy comes to the Bishop stage as the GHC Opera Workshop presents an abridged version of the beloved classic. It's pirates versus policemen versus General Stanley's daughters in this tale of mistaken identities\, piratical high jinks and happy endings for all.
X-ALT-DESC;FMTTYPE=text/html:<span style="caret-color: rgb(38\, 38\, 38)\; color: rgb(38\, 38\, 38)\; font-family: &quot\;Source Sans Pro&quot\;\, sans-serif\;">&quot\;The Pirates of Penzance&quot\; (abridged)\, Gilbert and Sullivan&#39\;s swashbuckling comedy comes to the Bishop stage as the GHC Opera Workshop presents an abridged version of the beloved classic. It&#39\;s pirates versus policemen versus General Stanley&#39\;s daughters in this tale of mistaken identities\, piratical high jinks and happy endings for all.</span>
LOCATION:Bishop Center for the Performing Arts Edward P Smith Dr. Aberdeen\, WA
UID:e.26.11861
SEQUENCE:3
DTSTAMP:20260424T120742Z
URL:https://chamber.graysharbor.org/events/details/pirates-of-penzance-11861
END:VEVENT

END:VCALENDAR
