BEGIN:VCALENDAR
VERSION:2.0
PRODID:-//ChamberMaster//Event Calendar 2.0//EN
METHOD:PUBLISH
X-PUBLISHED-TTL:P3D
REFRESH-INTERVAL:P3D
CALSCALE:GREGORIAN
BEGIN:VEVENT
DTSTART:20171216T033000Z
DTEND:20171216T063000Z
X-MICROSOFT-CDO-ALLDAYEVENT:FALSE
SUMMARY:Play It Forward at The Bishop Center
DESCRIPTION:Talented Harbor musicians gather to raise scholarship funds for GHC Music students. Listen to some original compositina and some holiday favorites. All Tickets $10 Get tickets now at ghc.edu/bishop
X-ALT-DESC;FMTTYPE=text/html:Talented Harbor musicians gather to raise scholarship funds for GHC Music students. Listen to some original compositina and some holiday favorites. All Tickets $10 Get tickets now at ghc.edu/bishop
LOCATION:Bishop Center for Performing Arts
UID:e.26.8263
SEQUENCE:3
DTSTAMP:20260425T163711Z
URL:https://chamber.graysharbor.org/events/details/play-it-forward-at-the-bishop-center-8263
END:VEVENT

END:VCALENDAR
